BEGIN:VCALENDAR
VERSION:2.0
PRODID:-//The Marvic Tavern - ECPv6.10.1.1//NONSGML v1.0//EN
CALSCALE:GREGORIAN
METHOD:PUBLISH
X-WR-CALNAME:The Marvic Tavern
X-ORIGINAL-URL:https://themarvictavern.com
X-WR-CALDESC:Events for The Marvic Tavern
REFRESH-INTERVAL;VALUE=DURATION:PT1H
X-Robots-Tag:noindex
X-PUBLISHED-TTL:PT1H
BEGIN:VTIMEZONE
TZID:America/New_York
BEGIN:DAYLIGHT
TZOFFSETFROM:-0500
TZOFFSETTO:-0400
TZNAME:EDT
DTSTART:20250309T070000
END:DAYLIGHT
BEGIN:STANDARD
TZOFFSETFROM:-0400
TZOFFSETTO:-0500
TZNAME:EST
DTSTART:20251102T060000
END:STANDARD
END:VTIMEZONE
BEGIN:VEVENT
DTSTART;TZID=America/New_York:20250327T150000
DTEND;TZID=America/New_York:20250327T203000
DTSTAMP:20260419T102335
CREATED:20250226T131421Z
LAST-MODIFIED:20250226T131421Z
UID:3496-1743087600-1743107400@themarvictavern.com
SUMMARY:Wing Night
DESCRIPTION:
URL:https://themarvictavern.com/event/wing-night-5/
LOCATION:The Marvic Tavern\, 401 E. 2nd Street\, Oil City\, 16301\, United States
CATEGORIES:Wing Night
ATTACH;FMTTYPE=image/jpeg:https://themarvictavern.com/wp-content/uploads/2024/03/The-Marvic-Wing-Night.jpg
END:VEVENT
END:VCALENDAR