BEGIN:VCALENDAR
VERSION:2.0
PRODID:-//The Marvic Tavern - ECPv6.10.1.1//NONSGML v1.0//EN
CALSCALE:GREGORIAN
METHOD:PUBLISH
X-ORIGINAL-URL:https://themarvictavern.com
X-WR-CALDESC:Events for The Marvic Tavern
REFRESH-INTERVAL;VALUE=DURATION:PT1H
X-Robots-Tag:noindex
X-PUBLISHED-TTL:PT1H
BEGIN:VTIMEZONE
TZID:America/New_York
BEGIN:DAYLIGHT
TZOFFSETFROM:-0500
TZOFFSETTO:-0400
TZNAME:EDT
DTSTART:20220313T070000
END:DAYLIGHT
BEGIN:STANDARD
TZOFFSETFROM:-0400
TZOFFSETTO:-0500
TZNAME:EST
DTSTART:20221106T060000
END:STANDARD
BEGIN:DAYLIGHT
TZOFFSETFROM:-0500
TZOFFSETTO:-0400
TZNAME:EDT
DTSTART:20230312T070000
END:DAYLIGHT
BEGIN:STANDARD
TZOFFSETFROM:-0400
TZOFFSETTO:-0500
TZNAME:EST
DTSTART:20231105T060000
END:STANDARD
END:VTIMEZONE
BEGIN:VEVENT
DTSTART;TZID=America/New_York:20231202T200000
DTEND;TZID=America/New_York:20231203T010000
DTSTAMP:20260422T010335
CREATED:20231115T141028Z
LAST-MODIFIED:20231115T141028Z
UID:3376-1701547200-1701565200@themarvictavern.com
SUMMARY:Saturday Night Karaoke
DESCRIPTION:Karaoke is back at The Marvic Tavern! \nCome on in and get your sing on from 8:00 pm until close. \n 
URL:https://themarvictavern.com/event/saturday-night-karaoke-68/
LOCATION:The Marvic Tavern\, 401 E. 2nd Street\, Oil City\, 16301\, United States
CATEGORIES:Karaoke
ATTACH;FMTTYPE=image/jpeg:https://themarvictavern.com/wp-content/uploads/2023/11/Karaoke-Event-Header.jpg
END:VEVENT
BEGIN:VEVENT
DTSTART;TZID=America/New_York:20231130T200000
DTEND;TZID=America/New_York:20231130T230000
DTSTAMP:20260422T010335
CREATED:20231115T140923Z
LAST-MODIFIED:20231115T140923Z
UID:3374-1701374400-1701385200@themarvictavern.com
SUMMARY:Thursday Night Karaoke
DESCRIPTION:Karaoke is back at The Marvic Tavern! \nCome on in and get your sing on from 8:00 pm until close.
URL:https://themarvictavern.com/event/thursday-night-karaoke-2/
LOCATION:The Marvic Tavern\, 401 E. 2nd Street\, Oil City\, 16301\, United States
CATEGORIES:Karaoke
ATTACH;FMTTYPE=image/jpeg:https://themarvictavern.com/wp-content/uploads/2023/11/Karaoke-Event-Header.jpg
END:VEVENT
BEGIN:VEVENT
DTSTART;TZID=America/New_York:20231123T200000
DTEND;TZID=America/New_York:20231123T230000
DTSTAMP:20260422T010335
CREATED:20231115T141738Z
LAST-MODIFIED:20231115T141738Z
UID:3387-1700769600-1700780400@themarvictavern.com
SUMMARY:Thursday Night Karaoke
DESCRIPTION:Karaoke is back at The Marvic Tavern! \nCome on in and get your sing on from 8:00 pm until close. \n 
URL:https://themarvictavern.com/event/thursday-night-karaoke-5/
LOCATION:The Marvic Tavern\, 401 E. 2nd Street\, Oil City\, 16301\, United States
CATEGORIES:Karaoke
ATTACH;FMTTYPE=image/jpeg:https://themarvictavern.com/wp-content/uploads/2023/11/Karaoke-Event-Header.jpg
END:VEVENT
BEGIN:VEVENT
DTSTART;TZID=America/New_York:20231118T200000
DTEND;TZID=America/New_York:20231119T010000
DTSTAMP:20260422T010335
CREATED:20231115T134044Z
LAST-MODIFIED:20231115T140331Z
UID:3363-1700337600-1700355600@themarvictavern.com
SUMMARY:Saturday Night Karaoke
DESCRIPTION:Karaoke is back at The Marvic Tavern! \nCome on in and get your sing on from 8:00 pm until close. \n 
URL:https://themarvictavern.com/event/saturday-night-karaoke-66/
LOCATION:The Marvic Tavern\, 401 E. 2nd Street\, Oil City\, 16301\, United States
CATEGORIES:Karaoke
ATTACH;FMTTYPE=image/jpeg:https://themarvictavern.com/wp-content/uploads/2023/11/Karaoke-Event-Header.jpg
END:VEVENT
BEGIN:VEVENT
DTSTART;TZID=America/New_York:20231116T200000
DTEND;TZID=America/New_York:20231116T230000
DTSTAMP:20260422T010335
CREATED:20220209T180441Z
LAST-MODIFIED:20231115T140604Z
UID:3127-1700164800-1700175600@themarvictavern.com
SUMMARY:Thursday Night Karaoke
DESCRIPTION:Karaoke is back at The Marvic Tavern! \nCome on in and get your sing on from 8:00 pm until close.\n \n  \n  \n 
URL:https://themarvictavern.com/event/saturday-night-karaoke-65/
LOCATION:The Marvic Tavern\, 401 E. 2nd Street\, Oil City\, 16301\, United States
CATEGORIES:Karaoke
ATTACH;FMTTYPE=image/jpeg:https://themarvictavern.com/wp-content/uploads/2023/11/Karaoke-Event-Header.jpg
END:VEVENT
BEGIN:VEVENT
DTSTART;TZID=America/New_York:20221022T200000
DTEND;TZID=America/New_York:20221022T230000
DTSTAMP:20260422T010335
CREATED:20220209T180426Z
LAST-MODIFIED:20220209T180426Z
UID:3126-1666468800-1666479600@themarvictavern.com
SUMMARY:Saturday Night Karaoke
DESCRIPTION:Karaoke is back at The Marvic Tavern! \nKitchen is open from 3:00 pm to 9:00 pm.  \nCome on in and get your sing on from 8:00 pm to 11:00 pm!!!
URL:https://themarvictavern.com/event/saturday-night-karaoke-64/
LOCATION:The Marvic Tavern\, 401 E. 2nd Street\, Oil City\, 16301\, United States
CATEGORIES:Karaoke
ATTACH;FMTTYPE=image/jpeg:https://themarvictavern.com/wp-content/uploads/2021/06/Marvic-Slider-karaoke-3.jpg
END:VEVENT
BEGIN:VEVENT
DTSTART;TZID=America/New_York:20221015T200000
DTEND;TZID=America/New_York:20221015T230000
DTSTAMP:20260422T010335
CREATED:20220209T180410Z
LAST-MODIFIED:20220209T180410Z
UID:3125-1665864000-1665874800@themarvictavern.com
SUMMARY:Saturday Night Karaoke
DESCRIPTION:Karaoke is back at The Marvic Tavern! \nKitchen is open from 3:00 pm to 9:00 pm.  \nCome on in and get your sing on from 8:00 pm to 11:00 pm!!!
URL:https://themarvictavern.com/event/saturday-night-karaoke-63/
LOCATION:The Marvic Tavern\, 401 E. 2nd Street\, Oil City\, 16301\, United States
CATEGORIES:Karaoke
ATTACH;FMTTYPE=image/jpeg:https://themarvictavern.com/wp-content/uploads/2021/06/Marvic-Slider-karaoke-3.jpg
END:VEVENT
BEGIN:VEVENT
DTSTART;TZID=America/New_York:20221008T200000
DTEND;TZID=America/New_York:20221008T230000
DTSTAMP:20260422T010335
CREATED:20220209T180353Z
LAST-MODIFIED:20220209T180353Z
UID:3124-1665259200-1665270000@themarvictavern.com
SUMMARY:Saturday Night Karaoke
DESCRIPTION:Karaoke is back at The Marvic Tavern! \nKitchen is open from 3:00 pm to 9:00 pm.  \nCome on in and get your sing on from 8:00 pm to 11:00 pm!!!
URL:https://themarvictavern.com/event/saturday-night-karaoke-62/
LOCATION:The Marvic Tavern\, 401 E. 2nd Street\, Oil City\, 16301\, United States
CATEGORIES:Karaoke
ATTACH;FMTTYPE=image/jpeg:https://themarvictavern.com/wp-content/uploads/2021/06/Marvic-Slider-karaoke-3.jpg
END:VEVENT
BEGIN:VEVENT
DTSTART;TZID=America/New_York:20221001T200000
DTEND;TZID=America/New_York:20221001T230000
DTSTAMP:20260422T010335
CREATED:20220209T180319Z
LAST-MODIFIED:20220209T180319Z
UID:3123-1664654400-1664665200@themarvictavern.com
SUMMARY:Saturday Night Karaoke
DESCRIPTION:Karaoke is back at The Marvic Tavern! \nKitchen is open from 3:00 pm to 9:00 pm.  \nCome on in and get your sing on from 8:00 pm to 11:00 pm!!!
URL:https://themarvictavern.com/event/saturday-night-karaoke-61/
LOCATION:The Marvic Tavern\, 401 E. 2nd Street\, Oil City\, 16301\, United States
CATEGORIES:Karaoke
ATTACH;FMTTYPE=image/jpeg:https://themarvictavern.com/wp-content/uploads/2021/06/Marvic-Slider-karaoke-3.jpg
END:VEVENT
BEGIN:VEVENT
DTSTART;TZID=America/New_York:20220924T200000
DTEND;TZID=America/New_York:20220924T230000
DTSTAMP:20260422T010335
CREATED:20220209T180258Z
LAST-MODIFIED:20220209T180258Z
UID:3122-1664049600-1664060400@themarvictavern.com
SUMMARY:Saturday Night Karaoke
DESCRIPTION:Karaoke is back at The Marvic Tavern! \nKitchen is open from 3:00 pm to 9:00 pm.  \nCome on in and get your sing on from 8:00 pm to 11:00 pm!!!
URL:https://themarvictavern.com/event/saturday-night-karaoke-60/
LOCATION:The Marvic Tavern\, 401 E. 2nd Street\, Oil City\, 16301\, United States
CATEGORIES:Karaoke
ATTACH;FMTTYPE=image/jpeg:https://themarvictavern.com/wp-content/uploads/2021/06/Marvic-Slider-karaoke-3.jpg
END:VEVENT
BEGIN:VEVENT
DTSTART;TZID=America/New_York:20220917T200000
DTEND;TZID=America/New_York:20220917T230000
DTSTAMP:20260422T010335
CREATED:20220209T180230Z
LAST-MODIFIED:20220209T180230Z
UID:3121-1663444800-1663455600@themarvictavern.com
SUMMARY:Saturday Night Karaoke
DESCRIPTION:Karaoke is back at The Marvic Tavern! \nKitchen is open from 3:00 pm to 9:00 pm.  \nCome on in and get your sing on from 8:00 pm to 11:00 pm!!!
URL:https://themarvictavern.com/event/saturday-night-karaoke-59/
LOCATION:The Marvic Tavern\, 401 E. 2nd Street\, Oil City\, 16301\, United States
CATEGORIES:Karaoke
ATTACH;FMTTYPE=image/jpeg:https://themarvictavern.com/wp-content/uploads/2021/06/Marvic-Slider-karaoke-3.jpg
END:VEVENT
BEGIN:VEVENT
DTSTART;TZID=America/New_York:20220910T200000
DTEND;TZID=America/New_York:20220910T230000
DTSTAMP:20260422T010335
CREATED:20220209T180211Z
LAST-MODIFIED:20220209T180211Z
UID:3120-1662840000-1662850800@themarvictavern.com
SUMMARY:Saturday Night Karaoke
DESCRIPTION:Karaoke is back at The Marvic Tavern! \nKitchen is open from 3:00 pm to 9:00 pm.  \nCome on in and get your sing on from 8:00 pm to 11:00 pm!!!
URL:https://themarvictavern.com/event/saturday-night-karaoke-58/
LOCATION:The Marvic Tavern\, 401 E. 2nd Street\, Oil City\, 16301\, United States
CATEGORIES:Karaoke
ATTACH;FMTTYPE=image/jpeg:https://themarvictavern.com/wp-content/uploads/2021/06/Marvic-Slider-karaoke-3.jpg
END:VEVENT
BEGIN:VEVENT
DTSTART;TZID=America/New_York:20220909T200000
DTEND;TZID=America/New_York:20220909T230000
DTSTAMP:20260422T010335
CREATED:20220209T183003Z
LAST-MODIFIED:20220209T183003Z
UID:3175-1662753600-1662764400@themarvictavern.com
SUMMARY:Friday Night Fish Fry
DESCRIPTION:Come on out and enjoy our deck in the beautiful summer weather!\n\nWe will have fried and baked fish dinners\, and fish sandwich dinners that will include delicious Haddock fillets\, choice of fries or baked potato\, slaw or apple sauce\, and hush puppies.\n\nDinners are $10.95 each and sandwich platters are $8.95.\n\nYou can also order just a fish sandwich for only $5.50.\n\nCome on in on Friday and help us bring back a great tradition to The Marvic Tavern!\n\nThe Marvic crew looks forward to seeing you!\n\nOf course\, take out is always available. Please call ahead for take out orders 814-677-9981.
URL:https://themarvictavern.com/event/friday-night-fish-fry-65/
LOCATION:The Marvic Tavern\, 401 E. 2nd Street\, Oil City\, 16301\, United States
CATEGORIES:Karaoke
ATTACH;FMTTYPE=image/jpeg:https://themarvictavern.com/wp-content/uploads/2021/06/Fish-Dinner-1.jpg
END:VEVENT
BEGIN:VEVENT
DTSTART;TZID=America/New_York:20220903T200000
DTEND;TZID=America/New_York:20220903T230000
DTSTAMP:20260422T010335
CREATED:20220209T180105Z
LAST-MODIFIED:20220209T180105Z
UID:3119-1662235200-1662246000@themarvictavern.com
SUMMARY:Saturday Night Karaoke
DESCRIPTION:Karaoke is back at The Marvic Tavern! \nKitchen is open from 3:00 pm to 9:00 pm.  \nCome on in and get your sing on from 8:00 pm to 11:00 pm!!!
URL:https://themarvictavern.com/event/saturday-night-karaoke-57/
LOCATION:The Marvic Tavern\, 401 E. 2nd Street\, Oil City\, 16301\, United States
CATEGORIES:Karaoke
ATTACH;FMTTYPE=image/jpeg:https://themarvictavern.com/wp-content/uploads/2021/06/Marvic-Slider-karaoke-3.jpg
END:VEVENT
BEGIN:VEVENT
DTSTART;TZID=America/New_York:20220827T200000
DTEND;TZID=America/New_York:20220827T230000
DTSTAMP:20260422T010335
CREATED:20220209T180049Z
LAST-MODIFIED:20220209T180049Z
UID:3118-1661630400-1661641200@themarvictavern.com
SUMMARY:Saturday Night Karaoke
DESCRIPTION:Karaoke is back at The Marvic Tavern! \nKitchen is open from 3:00 pm to 9:00 pm.  \nCome on in and get your sing on from 8:00 pm to 11:00 pm!!!
URL:https://themarvictavern.com/event/saturday-night-karaoke-56/
LOCATION:The Marvic Tavern\, 401 E. 2nd Street\, Oil City\, 16301\, United States
CATEGORIES:Karaoke
ATTACH;FMTTYPE=image/jpeg:https://themarvictavern.com/wp-content/uploads/2021/06/Marvic-Slider-karaoke-3.jpg
END:VEVENT
BEGIN:VEVENT
DTSTART;TZID=America/New_York:20220820T200000
DTEND;TZID=America/New_York:20220820T230000
DTSTAMP:20260422T010335
CREATED:20220209T180033Z
LAST-MODIFIED:20220209T180033Z
UID:3116-1661025600-1661036400@themarvictavern.com
SUMMARY:Saturday Night Karaoke
DESCRIPTION:Karaoke is back at The Marvic Tavern! \nKitchen is open from 3:00 pm to 9:00 pm.  \nCome on in and get your sing on from 8:00 pm to 11:00 pm!!!
URL:https://themarvictavern.com/event/saturday-night-karaoke-55/
LOCATION:The Marvic Tavern\, 401 E. 2nd Street\, Oil City\, 16301\, United States
CATEGORIES:Karaoke
ATTACH;FMTTYPE=image/jpeg:https://themarvictavern.com/wp-content/uploads/2021/06/Marvic-Slider-karaoke-3.jpg
END:VEVENT
BEGIN:VEVENT
DTSTART;TZID=America/New_York:20220813T200000
DTEND;TZID=America/New_York:20220813T230000
DTSTAMP:20260422T010335
CREATED:20220209T180016Z
LAST-MODIFIED:20220209T180016Z
UID:3115-1660420800-1660431600@themarvictavern.com
SUMMARY:Saturday Night Karaoke
DESCRIPTION:Karaoke is back at The Marvic Tavern! \nKitchen is open from 3:00 pm to 9:00 pm.  \nCome on in and get your sing on from 8:00 pm to 11:00 pm!!!
URL:https://themarvictavern.com/event/saturday-night-karaoke-54/
LOCATION:The Marvic Tavern\, 401 E. 2nd Street\, Oil City\, 16301\, United States
CATEGORIES:Karaoke
ATTACH;FMTTYPE=image/jpeg:https://themarvictavern.com/wp-content/uploads/2021/06/Marvic-Slider-karaoke-3.jpg
END:VEVENT
BEGIN:VEVENT
DTSTART;TZID=America/New_York:20220806T200000
DTEND;TZID=America/New_York:20220806T230000
DTSTAMP:20260422T010335
CREATED:20220209T180000Z
LAST-MODIFIED:20220209T180000Z
UID:3114-1659816000-1659826800@themarvictavern.com
SUMMARY:Saturday Night Karaoke
DESCRIPTION:Karaoke is back at The Marvic Tavern! \nKitchen is open from 3:00 pm to 9:00 pm.  \nCome on in and get your sing on from 8:00 pm to 11:00 pm!!!
URL:https://themarvictavern.com/event/saturday-night-karaoke-53/
LOCATION:The Marvic Tavern\, 401 E. 2nd Street\, Oil City\, 16301\, United States
CATEGORIES:Karaoke
ATTACH;FMTTYPE=image/jpeg:https://themarvictavern.com/wp-content/uploads/2021/06/Marvic-Slider-karaoke-3.jpg
END:VEVENT
BEGIN:VEVENT
DTSTART;TZID=America/New_York:20220730T200000
DTEND;TZID=America/New_York:20220730T230000
DTSTAMP:20260422T010335
CREATED:20220209T175943Z
LAST-MODIFIED:20220209T175943Z
UID:3113-1659211200-1659222000@themarvictavern.com
SUMMARY:Saturday Night Karaoke
DESCRIPTION:Karaoke is back at The Marvic Tavern! \nKitchen is open from 3:00 pm to 9:00 pm.  \nCome on in and get your sing on from 8:00 pm to 11:00 pm!!!
URL:https://themarvictavern.com/event/saturday-night-karaoke-52/
LOCATION:The Marvic Tavern\, 401 E. 2nd Street\, Oil City\, 16301\, United States
CATEGORIES:Karaoke
ATTACH;FMTTYPE=image/jpeg:https://themarvictavern.com/wp-content/uploads/2021/06/Marvic-Slider-karaoke-3.jpg
END:VEVENT
BEGIN:VEVENT
DTSTART;TZID=America/New_York:20220723T200000
DTEND;TZID=America/New_York:20220723T230000
DTSTAMP:20260422T010335
CREATED:20220209T175928Z
LAST-MODIFIED:20220209T175928Z
UID:3112-1658606400-1658617200@themarvictavern.com
SUMMARY:Saturday Night Karaoke
DESCRIPTION:Karaoke is back at The Marvic Tavern! \nKitchen is open from 3:00 pm to 9:00 pm.  \nCome on in and get your sing on from 8:00 pm to 11:00 pm!!!
URL:https://themarvictavern.com/event/saturday-night-karaoke-51/
LOCATION:The Marvic Tavern\, 401 E. 2nd Street\, Oil City\, 16301\, United States
CATEGORIES:Karaoke
ATTACH;FMTTYPE=image/jpeg:https://themarvictavern.com/wp-content/uploads/2021/06/Marvic-Slider-karaoke-3.jpg
END:VEVENT
BEGIN:VEVENT
DTSTART;TZID=America/New_York:20220716T200000
DTEND;TZID=America/New_York:20220716T230000
DTSTAMP:20260422T010335
CREATED:20220209T175911Z
LAST-MODIFIED:20220209T175911Z
UID:3111-1658001600-1658012400@themarvictavern.com
SUMMARY:Saturday Night Karaoke
DESCRIPTION:Karaoke is back at The Marvic Tavern! \nKitchen is open from 3:00 pm to 9:00 pm.  \nCome on in and get your sing on from 8:00 pm to 11:00 pm!!!
URL:https://themarvictavern.com/event/saturday-night-karaoke-50/
LOCATION:The Marvic Tavern\, 401 E. 2nd Street\, Oil City\, 16301\, United States
CATEGORIES:Karaoke
ATTACH;FMTTYPE=image/jpeg:https://themarvictavern.com/wp-content/uploads/2021/06/Marvic-Slider-karaoke-3.jpg
END:VEVENT
BEGIN:VEVENT
DTSTART;TZID=America/New_York:20220709T200000
DTEND;TZID=America/New_York:20220709T230000
DTSTAMP:20260422T010335
CREATED:20220209T175855Z
LAST-MODIFIED:20220209T175855Z
UID:3110-1657396800-1657407600@themarvictavern.com
SUMMARY:Saturday Night Karaoke
DESCRIPTION:Karaoke is back at The Marvic Tavern! \nKitchen is open from 3:00 pm to 9:00 pm.  \nCome on in and get your sing on from 8:00 pm to 11:00 pm!!!
URL:https://themarvictavern.com/event/saturday-night-karaoke-49/
LOCATION:The Marvic Tavern\, 401 E. 2nd Street\, Oil City\, 16301\, United States
CATEGORIES:Karaoke
ATTACH;FMTTYPE=image/jpeg:https://themarvictavern.com/wp-content/uploads/2021/06/Marvic-Slider-karaoke-3.jpg
END:VEVENT
BEGIN:VEVENT
DTSTART;TZID=America/New_York:20220702T200000
DTEND;TZID=America/New_York:20220702T230000
DTSTAMP:20260422T010335
CREATED:20220209T175841Z
LAST-MODIFIED:20220209T175841Z
UID:3109-1656792000-1656802800@themarvictavern.com
SUMMARY:Saturday Night Karaoke
DESCRIPTION:Karaoke is back at The Marvic Tavern! \nKitchen is open from 3:00 pm to 9:00 pm.  \nCome on in and get your sing on from 8:00 pm to 11:00 pm!!!
URL:https://themarvictavern.com/event/saturday-night-karaoke-48/
LOCATION:The Marvic Tavern\, 401 E. 2nd Street\, Oil City\, 16301\, United States
CATEGORIES:Karaoke
ATTACH;FMTTYPE=image/jpeg:https://themarvictavern.com/wp-content/uploads/2021/06/Marvic-Slider-karaoke-3.jpg
END:VEVENT
BEGIN:VEVENT
DTSTART;TZID=America/New_York:20220625T200000
DTEND;TZID=America/New_York:20220625T230000
DTSTAMP:20260422T010335
CREATED:20220209T175825Z
LAST-MODIFIED:20220209T175825Z
UID:3108-1656187200-1656198000@themarvictavern.com
SUMMARY:Saturday Night Karaoke
DESCRIPTION:Karaoke is back at The Marvic Tavern! \nKitchen is open from 3:00 pm to 9:00 pm.  \nCome on in and get your sing on from 8:00 pm to 11:00 pm!!!
URL:https://themarvictavern.com/event/saturday-night-karaoke-47/
LOCATION:The Marvic Tavern\, 401 E. 2nd Street\, Oil City\, 16301\, United States
CATEGORIES:Karaoke
ATTACH;FMTTYPE=image/jpeg:https://themarvictavern.com/wp-content/uploads/2021/06/Marvic-Slider-karaoke-3.jpg
END:VEVENT
BEGIN:VEVENT
DTSTART;TZID=America/New_York:20220618T200000
DTEND;TZID=America/New_York:20220618T230000
DTSTAMP:20260422T010335
CREATED:20220209T175807Z
LAST-MODIFIED:20220209T175807Z
UID:3107-1655582400-1655593200@themarvictavern.com
SUMMARY:Saturday Night Karaoke
DESCRIPTION:Karaoke is back at The Marvic Tavern! \nKitchen is open from 3:00 pm to 9:00 pm.  \nCome on in and get your sing on from 8:00 pm to 11:00 pm!!!
URL:https://themarvictavern.com/event/saturday-night-karaoke-46/
LOCATION:The Marvic Tavern\, 401 E. 2nd Street\, Oil City\, 16301\, United States
CATEGORIES:Karaoke
ATTACH;FMTTYPE=image/jpeg:https://themarvictavern.com/wp-content/uploads/2021/06/Marvic-Slider-karaoke-3.jpg
END:VEVENT
BEGIN:VEVENT
DTSTART;TZID=America/New_York:20220611T200000
DTEND;TZID=America/New_York:20220611T230000
DTSTAMP:20260422T010335
CREATED:20220209T175749Z
LAST-MODIFIED:20220209T175749Z
UID:3106-1654977600-1654988400@themarvictavern.com
SUMMARY:Saturday Night Karaoke
DESCRIPTION:Karaoke is back at The Marvic Tavern! \nKitchen is open from 3:00 pm to 9:00 pm.  \nCome on in and get your sing on from 8:00 pm to 11:00 pm!!!
URL:https://themarvictavern.com/event/saturday-night-karaoke-45/
LOCATION:The Marvic Tavern\, 401 E. 2nd Street\, Oil City\, 16301\, United States
CATEGORIES:Karaoke
ATTACH;FMTTYPE=image/jpeg:https://themarvictavern.com/wp-content/uploads/2021/06/Marvic-Slider-karaoke-3.jpg
END:VEVENT
BEGIN:VEVENT
DTSTART;TZID=America/New_York:20220604T200000
DTEND;TZID=America/New_York:20220604T230000
DTSTAMP:20260422T010335
CREATED:20220209T175728Z
LAST-MODIFIED:20220209T175728Z
UID:3105-1654372800-1654383600@themarvictavern.com
SUMMARY:Saturday Night Karaoke
DESCRIPTION:Karaoke is back at The Marvic Tavern! \nKitchen is open from 3:00 pm to 9:00 pm.  \nCome on in and get your sing on from 8:00 pm to 11:00 pm!!!
URL:https://themarvictavern.com/event/saturday-night-karaoke-44/
LOCATION:The Marvic Tavern\, 401 E. 2nd Street\, Oil City\, 16301\, United States
CATEGORIES:Karaoke
ATTACH;FMTTYPE=image/jpeg:https://themarvictavern.com/wp-content/uploads/2021/06/Marvic-Slider-karaoke-3.jpg
END:VEVENT
BEGIN:VEVENT
DTSTART;TZID=America/New_York:20220528T200000
DTEND;TZID=America/New_York:20220528T230000
DTSTAMP:20260422T010335
CREATED:20220209T175710Z
LAST-MODIFIED:20220209T175710Z
UID:3103-1653768000-1653778800@themarvictavern.com
SUMMARY:Saturday Night Karaoke
DESCRIPTION:Karaoke is back at The Marvic Tavern! \nKitchen is open from 3:00 pm to 9:00 pm. \nCome on in and get your sing on from 8:00 pm to 11:00 pm!!!
URL:https://themarvictavern.com/event/saturday-night-karaoke-43/
LOCATION:The Marvic Tavern\, 401 E. 2nd Street\, Oil City\, 16301\, United States
CATEGORIES:Karaoke
ATTACH;FMTTYPE=image/jpeg:https://themarvictavern.com/wp-content/uploads/2021/06/Marvic-Slider-karaoke-3.jpg
END:VEVENT
BEGIN:VEVENT
DTSTART;TZID=America/New_York:20220521T200000
DTEND;TZID=America/New_York:20220521T230000
DTSTAMP:20260422T010335
CREATED:20220209T175651Z
LAST-MODIFIED:20220209T175651Z
UID:3102-1653163200-1653174000@themarvictavern.com
SUMMARY:Saturday Night Karaoke
DESCRIPTION:Karaoke is back at The Marvic Tavern! \nKitchen is open from 3:00 pm to 9:00 pm.  \nCome on in and get your sing on from 8:00 pm to 11:00 pm!!!
URL:https://themarvictavern.com/event/saturday-night-karaoke-42/
LOCATION:The Marvic Tavern\, 401 E. 2nd Street\, Oil City\, 16301\, United States
CATEGORIES:Karaoke
ATTACH;FMTTYPE=image/jpeg:https://themarvictavern.com/wp-content/uploads/2021/06/Marvic-Slider-karaoke-3.jpg
END:VEVENT
BEGIN:VEVENT
DTSTART;TZID=America/New_York:20220520T200000
DTEND;TZID=America/New_York:20220520T230000
DTSTAMP:20260422T010335
CREATED:20220209T182358Z
LAST-MODIFIED:20220209T182358Z
UID:3156-1653076800-1653087600@themarvictavern.com
SUMMARY:Friday Night Fish Fry
DESCRIPTION:Come on out and enjoy our deck in the beautiful summer weather!\n\nWe will have fried and baked fish dinners\, and fish sandwich dinners that will include delicious Haddock fillets\, choice of fries or baked potato\, slaw or apple sauce\, and hush puppies.\n\nDinners are $10.95 each and sandwich platters are $8.95.\n\nYou can also order just a fish sandwich for only $5.50.\n\nCome on in on Friday and help us bring back a great tradition to The Marvic Tavern!\n\nThe Marvic crew looks forward to seeing you!\n\nOf course\, take out is always available. Please call ahead for take out orders 814-677-9981.
URL:https://themarvictavern.com/event/friday-night-fish-fry-49/
LOCATION:The Marvic Tavern\, 401 E. 2nd Street\, Oil City\, 16301\, United States
CATEGORIES:Karaoke
ATTACH;FMTTYPE=image/jpeg:https://themarvictavern.com/wp-content/uploads/2021/06/Fish-Dinner-1.jpg
END:VEVENT
END:VCALENDAR