BEGIN:VCALENDAR
VERSION:2.0
PRODID:-//The Marvic Tavern - ECPv6.10.1.1//NONSGML v1.0//EN
CALSCALE:GREGORIAN
METHOD:PUBLISH
X-ORIGINAL-URL:https://themarvictavern.com
X-WR-CALDESC:Events for The Marvic Tavern
REFRESH-INTERVAL;VALUE=DURATION:PT1H
X-Robots-Tag:noindex
X-PUBLISHED-TTL:PT1H
BEGIN:VTIMEZONE
TZID:America/New_York
BEGIN:DAYLIGHT
TZOFFSETFROM:-0500
TZOFFSETTO:-0400
TZNAME:EDT
DTSTART:20210314T070000
END:DAYLIGHT
BEGIN:STANDARD
TZOFFSETFROM:-0400
TZOFFSETTO:-0500
TZNAME:EST
DTSTART:20211107T060000
END:STANDARD
BEGIN:DAYLIGHT
TZOFFSETFROM:-0500
TZOFFSETTO:-0400
TZNAME:EDT
DTSTART:20220313T070000
END:DAYLIGHT
BEGIN:STANDARD
TZOFFSETFROM:-0400
TZOFFSETTO:-0500
TZNAME:EST
DTSTART:20221106T060000
END:STANDARD
END:VTIMEZONE
BEGIN:VEVENT
DTSTART;TZID=America/New_York:20220402T200000
DTEND;TZID=America/New_York:20220402T230000
DTSTAMP:20260423T235610
CREATED:20220112T140906Z
LAST-MODIFIED:20220112T140906Z
UID:3045-1648929600-1648940400@themarvictavern.com
SUMMARY:Saturday Night Karaoke
DESCRIPTION:Karaoke is back at The Marvic Tavern! \nKitchen is open from 3:00 pm to 9:00 pm.  \nCome on in and get your sing on from 8:00 pm to 11:00 pm!!!
URL:https://themarvictavern.com/event/saturday-night-karaoke-33/
LOCATION:The Marvic Tavern\, 401 E. 2nd Street\, Oil City\, 16301\, United States
CATEGORIES:Karaoke
ATTACH;FMTTYPE=image/jpeg:https://themarvictavern.com/wp-content/uploads/2021/06/Karaoke-Saturdays.jpg
END:VEVENT
BEGIN:VEVENT
DTSTART;TZID=America/New_York:20220326T200000
DTEND;TZID=America/New_York:20220326T230000
DTSTAMP:20260423T235610
CREATED:20220112T140602Z
LAST-MODIFIED:20220112T140602Z
UID:3036-1648324800-1648335600@themarvictavern.com
SUMMARY:Saturday Night Karaoke
DESCRIPTION:Karaoke is back at The Marvic Tavern! \nKitchen is open from 3:00 pm to 9:00 pm.  \nCome on in and get your sing on from 8:00 pm to 11:00 pm!!!
URL:https://themarvictavern.com/event/saturday-night-karaoke-29/
LOCATION:The Marvic Tavern\, 401 E. 2nd Street\, Oil City\, 16301\, United States
CATEGORIES:Karaoke
ATTACH;FMTTYPE=image/jpeg:https://themarvictavern.com/wp-content/uploads/2021/06/Karaoke-Saturdays.jpg
END:VEVENT
BEGIN:VEVENT
DTSTART;TZID=America/New_York:20220319T200000
DTEND;TZID=America/New_York:20220319T230000
DTSTAMP:20260423T235610
CREATED:20220112T140644Z
LAST-MODIFIED:20220112T140644Z
UID:3035-1647720000-1647730800@themarvictavern.com
SUMMARY:Saturday Night Karaoke
DESCRIPTION:Karaoke is back at The Marvic Tavern! \nKitchen is open from 3:00 pm to 9:00 pm.  \nCome on in and get your sing on from 8:00 pm to 11:00 pm!!!
URL:https://themarvictavern.com/event/saturday-night-karaoke-30/
LOCATION:The Marvic Tavern\, 401 E. 2nd Street\, Oil City\, 16301\, United States
CATEGORIES:Karaoke
ATTACH;FMTTYPE=image/jpeg:https://themarvictavern.com/wp-content/uploads/2021/06/Karaoke-Saturdays.jpg
END:VEVENT
BEGIN:VEVENT
DTSTART;TZID=America/New_York:20220312T200000
DTEND;TZID=America/New_York:20220312T230000
DTSTAMP:20260423T235610
CREATED:20220112T140704Z
LAST-MODIFIED:20220112T140704Z
UID:3034-1647115200-1647126000@themarvictavern.com
SUMMARY:Saturday Night Karaoke
DESCRIPTION:Karaoke is back at The Marvic Tavern! \nKitchen is open from 3:00 pm to 9:00 pm.  \nCome on in and get your sing on from 8:00 pm to 11:00 pm!!!
URL:https://themarvictavern.com/event/saturday-night-karaoke-31/
LOCATION:The Marvic Tavern\, 401 E. 2nd Street\, Oil City\, 16301\, United States
CATEGORIES:Karaoke
ATTACH;FMTTYPE=image/jpeg:https://themarvictavern.com/wp-content/uploads/2021/06/Karaoke-Saturdays.jpg
END:VEVENT
BEGIN:VEVENT
DTSTART;TZID=America/New_York:20220305T200000
DTEND;TZID=America/New_York:20220305T230000
DTSTAMP:20260423T235610
CREATED:20220112T140725Z
LAST-MODIFIED:20220112T140725Z
UID:3033-1646510400-1646521200@themarvictavern.com
SUMMARY:Saturday Night Karaoke
DESCRIPTION:Karaoke is back at The Marvic Tavern! \nKitchen is open from 3:00 pm to 9:00 pm.  \nCome on in and get your sing on from 8:00 pm to 11:00 pm!!!
URL:https://themarvictavern.com/event/saturday-night-karaoke-32/
LOCATION:The Marvic Tavern\, 401 E. 2nd Street\, Oil City\, 16301\, United States
CATEGORIES:Karaoke
ATTACH;FMTTYPE=image/jpeg:https://themarvictavern.com/wp-content/uploads/2021/06/Karaoke-Saturdays.jpg
END:VEVENT
BEGIN:VEVENT
DTSTART;TZID=America/New_York:20220226T200000
DTEND;TZID=America/New_York:20220226T230000
DTSTAMP:20260423T235610
CREATED:20220112T141434Z
LAST-MODIFIED:20220112T141434Z
UID:3051-1645905600-1645916400@themarvictavern.com
SUMMARY:Saturday Night Karaoke
DESCRIPTION:Karaoke is back at The Marvic Tavern! \nKitchen is open from 3:00 pm to 9:00 pm.  \nCome on in and get your sing on from 8:00 pm to 11:00 pm!!!
URL:https://themarvictavern.com/event/saturday-night-karaoke-39/
LOCATION:The Marvic Tavern\, 401 E. 2nd Street\, Oil City\, 16301\, United States
CATEGORIES:Karaoke
ATTACH;FMTTYPE=image/jpeg:https://themarvictavern.com/wp-content/uploads/2021/06/Karaoke-Saturdays.jpg
END:VEVENT
BEGIN:VEVENT
DTSTART;TZID=America/New_York:20220219T200000
DTEND;TZID=America/New_York:20220219T230000
DTSTAMP:20260423T235610
CREATED:20220112T141406Z
LAST-MODIFIED:20220112T141406Z
UID:3052-1645300800-1645311600@themarvictavern.com
SUMMARY:Saturday Night Karaoke
DESCRIPTION:Karaoke is back at The Marvic Tavern! \nKitchen is open from 3:00 pm to 9:00 pm.  \nCome on in and get your sing on from 8:00 pm to 11:00 pm!!!
URL:https://themarvictavern.com/event/saturday-night-karaoke-38/
LOCATION:The Marvic Tavern\, 401 E. 2nd Street\, Oil City\, 16301\, United States
CATEGORIES:Karaoke
ATTACH;FMTTYPE=image/jpeg:https://themarvictavern.com/wp-content/uploads/2021/06/Karaoke-Saturdays.jpg
END:VEVENT
BEGIN:VEVENT
DTSTART;TZID=America/New_York:20220212T200000
DTEND;TZID=America/New_York:20220212T230000
DTSTAMP:20260423T235610
CREATED:20211207T144527Z
LAST-MODIFIED:20211207T144527Z
UID:3004-1644696000-1644706800@themarvictavern.com
SUMMARY:Saturday Night Karaoke
DESCRIPTION:Karaoke is back at The Marvic Tavern! \nKitchen is open from 3:00 pm to 9:00 pm.  \nCome on in and get your sing on from 8:00 pm to 11:00 pm!!!
URL:https://themarvictavern.com/event/saturday-night-karaoke-25/
LOCATION:The Marvic Tavern\, 401 E. 2nd Street\, Oil City\, 16301\, United States
CATEGORIES:Karaoke
ATTACH;FMTTYPE=image/jpeg:https://themarvictavern.com/wp-content/uploads/2021/06/Karaoke-Saturdays.jpg
END:VEVENT
BEGIN:VEVENT
DTSTART;TZID=America/New_York:20220205T200000
DTEND;TZID=America/New_York:20220205T230000
DTSTAMP:20260423T235610
CREATED:20211207T144535Z
LAST-MODIFIED:20211207T144548Z
UID:3003-1644091200-1644102000@themarvictavern.com
SUMMARY:Saturday Night Karaoke
DESCRIPTION:Karaoke is back at The Marvic Tavern! \nKitchen is open from 3:00 pm to 9:00 pm.  \nCome on in and get your sing on from 8:00 pm to 11:00 pm!!!
URL:https://themarvictavern.com/event/saturday-night-karaoke-26/
LOCATION:The Marvic Tavern\, 401 E. 2nd Street\, Oil City\, 16301\, United States
CATEGORIES:Karaoke
ATTACH;FMTTYPE=image/jpeg:https://themarvictavern.com/wp-content/uploads/2021/06/Karaoke-Saturdays.jpg
END:VEVENT
BEGIN:VEVENT
DTSTART;TZID=America/New_York:20220129T200000
DTEND;TZID=America/New_York:20220129T230000
DTSTAMP:20260423T235610
CREATED:20211207T144541Z
LAST-MODIFIED:20211207T144556Z
UID:3002-1643486400-1643497200@themarvictavern.com
SUMMARY:Saturday Night Karaoke
DESCRIPTION:Karaoke is back at The Marvic Tavern! \nKitchen is open from 3:00 pm to 9:00 pm.  \nCome on in and get your sing on from 8:00 pm to 11:00 pm!!!
URL:https://themarvictavern.com/event/saturday-night-karaoke-27/
LOCATION:The Marvic Tavern\, 401 E. 2nd Street\, Oil City\, 16301\, United States
CATEGORIES:Karaoke
ATTACH;FMTTYPE=image/jpeg:https://themarvictavern.com/wp-content/uploads/2021/06/Karaoke-Saturdays.jpg
END:VEVENT
BEGIN:VEVENT
DTSTART;TZID=America/New_York:20220122T200000
DTEND;TZID=America/New_York:20220122T230000
DTSTAMP:20260423T235610
CREATED:20211202T144336Z
LAST-MODIFIED:20211202T144336Z
UID:2996-1642881600-1642892400@themarvictavern.com
SUMMARY:Saturday Night Karaoke
DESCRIPTION:Karaoke is back at The Marvic Tavern! \nKitchen is open from 3:00 pm to 9:00 pm.  \nCome on in and get your sing on from 8:00 pm to 11:00 pm!!!
URL:https://themarvictavern.com/event/saturday-night-karaoke-24/
LOCATION:The Marvic Tavern\, 401 E. 2nd Street\, Oil City\, 16301\, United States
CATEGORIES:Karaoke
ATTACH;FMTTYPE=image/jpeg:https://themarvictavern.com/wp-content/uploads/2021/06/Karaoke-Saturdays.jpg
END:VEVENT
BEGIN:VEVENT
DTSTART;TZID=America/New_York:20220115T200000
DTEND;TZID=America/New_York:20220115T230000
DTSTAMP:20260423T235610
CREATED:20211202T144330Z
LAST-MODIFIED:20211202T144330Z
UID:2995-1642276800-1642287600@themarvictavern.com
SUMMARY:Saturday Night Karaoke
DESCRIPTION:Karaoke is back at The Marvic Tavern! \nKitchen is open from 3:00 pm to 9:00 pm.  \nCome on in and get your sing on from 8:00 pm to 11:00 pm!!!
URL:https://themarvictavern.com/event/saturday-night-karaoke-23/
LOCATION:The Marvic Tavern\, 401 E. 2nd Street\, Oil City\, 16301\, United States
CATEGORIES:Karaoke
ATTACH;FMTTYPE=image/jpeg:https://themarvictavern.com/wp-content/uploads/2021/06/Karaoke-Saturdays.jpg
END:VEVENT
BEGIN:VEVENT
DTSTART;TZID=America/New_York:20220108T200000
DTEND;TZID=America/New_York:20220108T230000
DTSTAMP:20260423T235610
CREATED:20211202T144322Z
LAST-MODIFIED:20211202T144322Z
UID:2994-1641672000-1641682800@themarvictavern.com
SUMMARY:Saturday Night Karaoke
DESCRIPTION:Karaoke is back at The Marvic Tavern! \nKitchen is open from 3:00 pm to 9:00 pm.  \nCome on in and get your sing on from 8:00 pm to 11:00 pm!!!
URL:https://themarvictavern.com/event/saturday-night-karaoke-22/
LOCATION:The Marvic Tavern\, 401 E. 2nd Street\, Oil City\, 16301\, United States
CATEGORIES:Karaoke
ATTACH;FMTTYPE=image/jpeg:https://themarvictavern.com/wp-content/uploads/2021/06/Karaoke-Saturdays.jpg
END:VEVENT
BEGIN:VEVENT
DTSTART;TZID=America/New_York:20211225T200000
DTEND;TZID=America/New_York:20211225T230000
DTSTAMP:20260423T235610
CREATED:20211228T145710Z
LAST-MODIFIED:20211228T145710Z
UID:3027-1640462400-1640473200@themarvictavern.com
SUMMARY:Saturday Night Karaoke
DESCRIPTION:Karaoke is back at The Marvic Tavern! \nKitchen is open from 3:00 pm to 9:00 pm.  \nCome on in and get your sing on from 8:00 pm to 11:00 pm!!!
URL:https://themarvictavern.com/event/saturday-night-karaoke-28/
LOCATION:The Marvic Tavern\, 401 E. 2nd Street\, Oil City\, 16301\, United States
CATEGORIES:Karaoke
ATTACH;FMTTYPE=image/jpeg:https://themarvictavern.com/wp-content/uploads/2021/06/Karaoke-Saturdays.jpg
END:VEVENT
BEGIN:VEVENT
DTSTART;TZID=America/New_York:20211218T200000
DTEND;TZID=America/New_York:20211218T230000
DTSTAMP:20260423T235610
CREATED:20211202T144311Z
LAST-MODIFIED:20211202T144311Z
UID:2993-1639857600-1639868400@themarvictavern.com
SUMMARY:Saturday Night Karaoke
DESCRIPTION:Karaoke is back at The Marvic Tavern! \nKitchen is open from 3:00 pm to 9:00 pm.  \nCome on in and get your sing on from 8:00 pm to 11:00 pm!!!
URL:https://themarvictavern.com/event/saturday-night-karaoke-21/
LOCATION:The Marvic Tavern\, 401 E. 2nd Street\, Oil City\, 16301\, United States
CATEGORIES:Karaoke
ATTACH;FMTTYPE=image/jpeg:https://themarvictavern.com/wp-content/uploads/2021/06/Karaoke-Saturdays.jpg
END:VEVENT
BEGIN:VEVENT
DTSTART;TZID=America/New_York:20211211T200000
DTEND;TZID=America/New_York:20211211T230000
DTSTAMP:20260423T235610
CREATED:20211202T144305Z
LAST-MODIFIED:20211202T144305Z
UID:2992-1639252800-1639263600@themarvictavern.com
SUMMARY:Saturday Night Karaoke
DESCRIPTION:Karaoke is back at The Marvic Tavern! \nKitchen is open from 3:00 pm to 9:00 pm.  \nCome on in and get your sing on from 8:00 pm to 11:00 pm!!!
URL:https://themarvictavern.com/event/saturday-night-karaoke-20/
LOCATION:The Marvic Tavern\, 401 E. 2nd Street\, Oil City\, 16301\, United States
CATEGORIES:Karaoke
ATTACH;FMTTYPE=image/jpeg:https://themarvictavern.com/wp-content/uploads/2021/06/Karaoke-Saturdays.jpg
END:VEVENT
BEGIN:VEVENT
DTSTART;TZID=America/New_York:20211204T200000
DTEND;TZID=America/New_York:20211204T230000
DTSTAMP:20260423T235610
CREATED:20211025T143158Z
LAST-MODIFIED:20211025T143158Z
UID:2938-1638648000-1638658800@themarvictavern.com
SUMMARY:Saturday Night Karaoke
DESCRIPTION:Karaoke is back at The Marvic Tavern! \nKitchen is open from 3:00 pm to 9:00 pm.  \nCome on in and get your sing on from 8:00 pm to 11:00 pm!!!
URL:https://themarvictavern.com/event/saturday-night-karaoke-19/
LOCATION:The Marvic Tavern\, 401 E. 2nd Street\, Oil City\, 16301\, United States
CATEGORIES:Karaoke
ATTACH;FMTTYPE=image/jpeg:https://themarvictavern.com/wp-content/uploads/2021/06/Karaoke-Saturdays.jpg
END:VEVENT
BEGIN:VEVENT
DTSTART;TZID=America/New_York:20211127T200000
DTEND;TZID=America/New_York:20211127T230000
DTSTAMP:20260423T235610
CREATED:20211025T143112Z
LAST-MODIFIED:20211025T143122Z
UID:2939-1638043200-1638054000@themarvictavern.com
SUMMARY:Saturday Night Karaoke
DESCRIPTION:Karaoke is back at The Marvic Tavern! \nKitchen is open from 3:00 pm to 9:00 pm.  \nCome on in and get your sing on from 8:00 pm to 11:00 pm!!!
URL:https://themarvictavern.com/event/saturday-night-karaoke-18/
LOCATION:The Marvic Tavern\, 401 E. 2nd Street\, Oil City\, 16301\, United States
CATEGORIES:Karaoke
ATTACH;FMTTYPE=image/jpeg:https://themarvictavern.com/wp-content/uploads/2021/06/Karaoke-Saturdays.jpg
END:VEVENT
BEGIN:VEVENT
DTSTART;TZID=America/New_York:20211120T200000
DTEND;TZID=America/New_York:20211120T230000
DTSTAMP:20260423T235610
CREATED:20211025T143039Z
LAST-MODIFIED:20211025T143039Z
UID:2940-1637438400-1637449200@themarvictavern.com
SUMMARY:Saturday Night Karaoke
DESCRIPTION:Karaoke is back at The Marvic Tavern! \nKitchen is open from 3:00 pm to 9:00 pm.  \nCome on in and get your sing on from 8:00 pm to 11:00 pm!!!
URL:https://themarvictavern.com/event/saturday-night-karaoke-17/
LOCATION:The Marvic Tavern\, 401 E. 2nd Street\, Oil City\, 16301\, United States
CATEGORIES:Karaoke
ATTACH;FMTTYPE=image/jpeg:https://themarvictavern.com/wp-content/uploads/2021/06/Karaoke-Saturdays.jpg
END:VEVENT
BEGIN:VEVENT
DTSTART;TZID=America/New_York:20211113T200000
DTEND;TZID=America/New_York:20211113T230000
DTSTAMP:20260423T235610
CREATED:20211025T143002Z
LAST-MODIFIED:20211025T143002Z
UID:2941-1636833600-1636844400@themarvictavern.com
SUMMARY:Saturday Night Karaoke
DESCRIPTION:Karaoke is back at The Marvic Tavern! \nKitchen is open from 3:00 pm to 9:00 pm.  \nCome on in and get your sing on from 8:00 pm to 11:00 pm!!!
URL:https://themarvictavern.com/event/saturday-night-karaoke-16/
LOCATION:The Marvic Tavern\, 401 E. 2nd Street\, Oil City\, 16301\, United States
CATEGORIES:Karaoke
ATTACH;FMTTYPE=image/jpeg:https://themarvictavern.com/wp-content/uploads/2021/06/Karaoke-Saturdays.jpg
END:VEVENT
BEGIN:VEVENT
DTSTART;TZID=America/New_York:20211106T200000
DTEND;TZID=America/New_York:20211106T230000
DTSTAMP:20260423T235610
CREATED:20211005T155136Z
LAST-MODIFIED:20211005T155136Z
UID:2931-1636228800-1636239600@themarvictavern.com
SUMMARY:Saturday Night Karaoke
DESCRIPTION:Karaoke is back at The Marvic Tavern! \nKitchen is open from 3:00 pm to 9:00 pm.  \nCome on in and get your sing on from 8:00 pm to 11:00 pm!!!
URL:https://themarvictavern.com/event/saturday-night-karaoke-15/
LOCATION:The Marvic Tavern\, 401 E. 2nd Street\, Oil City\, 16301\, United States
CATEGORIES:Karaoke
ATTACH;FMTTYPE=image/jpeg:https://themarvictavern.com/wp-content/uploads/2021/06/Karaoke-Saturdays.jpg
END:VEVENT
BEGIN:VEVENT
DTSTART;TZID=America/New_York:20211023T200000
DTEND;TZID=America/New_York:20211023T230000
DTSTAMP:20260423T235610
CREATED:20211005T155019Z
LAST-MODIFIED:20211005T155019Z
UID:2929-1635019200-1635030000@themarvictavern.com
SUMMARY:Saturday Night Karaoke
DESCRIPTION:Karaoke is back at The Marvic Tavern! \nKitchen is open from 3:00 pm to 9:00 pm.  \nCome on in and get your sing on from 8:00 pm to 11:00 pm!!!
URL:https://themarvictavern.com/event/saturday-night-karaoke-14/
LOCATION:The Marvic Tavern\, 401 E. 2nd Street\, Oil City\, 16301\, United States
CATEGORIES:Karaoke
ATTACH;FMTTYPE=image/jpeg:https://themarvictavern.com/wp-content/uploads/2021/06/Karaoke-Saturdays.jpg
END:VEVENT
BEGIN:VEVENT
DTSTART;TZID=America/New_York:20211016T200000
DTEND;TZID=America/New_York:20211016T230000
DTSTAMP:20260423T235610
CREATED:20211005T154940Z
LAST-MODIFIED:20211005T154940Z
UID:2927-1634414400-1634425200@themarvictavern.com
SUMMARY:Saturday Night Karaoke
DESCRIPTION:Karaoke is back at The Marvic Tavern! \nKitchen is open from 3:00 pm to 9:00 pm.  \nCome on in and get your sing on from 8:00 pm to 11:00 pm!!!
URL:https://themarvictavern.com/event/saturday-night-karaoke-13/
LOCATION:The Marvic Tavern\, 401 E. 2nd Street\, Oil City\, 16301\, United States
CATEGORIES:Karaoke
ATTACH;FMTTYPE=image/jpeg:https://themarvictavern.com/wp-content/uploads/2021/06/Karaoke-Saturdays.jpg
END:VEVENT
BEGIN:VEVENT
DTSTART;TZID=America/New_York:20211009T200000
DTEND;TZID=America/New_York:20211009T230000
DTSTAMP:20260423T235610
CREATED:20211005T154901Z
LAST-MODIFIED:20211005T154901Z
UID:2925-1633809600-1633820400@themarvictavern.com
SUMMARY:Saturday Night Karaoke
DESCRIPTION:Karaoke is back at The Marvic Tavern! \nKitchen is open from 3:00 pm to 9:00 pm.  \nCome on in and get your sing on from 8:00 pm to 11:00 pm!!!
URL:https://themarvictavern.com/event/saturday-night-karaoke-12/
LOCATION:The Marvic Tavern\, 401 E. 2nd Street\, Oil City\, 16301\, United States
CATEGORIES:Karaoke
ATTACH;FMTTYPE=image/jpeg:https://themarvictavern.com/wp-content/uploads/2021/06/Karaoke-Saturdays.jpg
END:VEVENT
BEGIN:VEVENT
DTSTART;TZID=America/New_York:20211002T200000
DTEND;TZID=America/New_York:20211002T230000
DTSTAMP:20260423T235610
CREATED:20211005T154819Z
LAST-MODIFIED:20211005T154819Z
UID:2923-1633204800-1633215600@themarvictavern.com
SUMMARY:Saturday Night Karaoke
DESCRIPTION:Karaoke is back at The Marvic Tavern! \nKitchen is open from 3:00 pm to 9:00 pm.  \nCome on in and get your sing on from 8:00 pm to 11:00 pm!!!
URL:https://themarvictavern.com/event/saturday-night-karaoke-7/
LOCATION:The Marvic Tavern\, 401 E. 2nd Street\, Oil City\, 16301\, United States
CATEGORIES:Karaoke
ATTACH;FMTTYPE=image/jpeg:https://themarvictavern.com/wp-content/uploads/2021/06/Karaoke-Saturdays.jpg
END:VEVENT
BEGIN:VEVENT
DTSTART;TZID=America/New_York:20210925T200000
DTEND;TZID=America/New_York:20210925T230000
DTSTAMP:20260423T235610
CREATED:20210825T134327Z
LAST-MODIFIED:20210825T134327Z
UID:2859-1632600000-1632610800@themarvictavern.com
SUMMARY:Saturday Night Karaoke
DESCRIPTION:Karaoke is back at The Marvic Tavern! \nKitchen is open from 3:00 pm to 9:00 pm.  \nCome on in and get your sing on from 8:00 pm to 11:00 pm!!!
URL:https://themarvictavern.com/event/saturday-night-karaoke-11/
LOCATION:The Marvic Tavern\, 401 E. 2nd Street\, Oil City\, 16301\, United States
CATEGORIES:Karaoke
ATTACH;FMTTYPE=image/jpeg:https://themarvictavern.com/wp-content/uploads/2021/06/Karaoke-Saturdays.jpg
END:VEVENT
BEGIN:VEVENT
DTSTART;TZID=America/New_York:20210918T200000
DTEND;TZID=America/New_York:20210918T230000
DTSTAMP:20260423T235610
CREATED:20210825T134226Z
LAST-MODIFIED:20210825T134407Z
UID:2857-1631995200-1632006000@themarvictavern.com
SUMMARY:Saturday Night Karaoke
DESCRIPTION:Karaoke is back at The Marvic Tavern! \nKitchen is open from 3:00 pm to 9:00 pm.  \nCome on in and get your sing on from 8:00 pm to 11:00 pm!!! \n 
URL:https://themarvictavern.com/event/saturday-night-karaoke-10/
LOCATION:The Marvic Tavern\, 401 E. 2nd Street\, Oil City\, 16301\, United States
CATEGORIES:Karaoke
ATTACH;FMTTYPE=image/jpeg:https://themarvictavern.com/wp-content/uploads/2021/06/Karaoke-Saturdays.jpg
END:VEVENT
BEGIN:VEVENT
DTSTART;TZID=America/New_York:20210911T200000
DTEND;TZID=America/New_York:20210911T230000
DTSTAMP:20260423T235610
CREATED:20210825T134134Z
LAST-MODIFIED:20210825T134420Z
UID:2855-1631390400-1631401200@themarvictavern.com
SUMMARY:Saturday Night Karaoke
DESCRIPTION:Karaoke is back at The Marvic Tavern! \nKitchen is open from 3:00 pm to 9:00 pm.  \nCome on in and get your sing on from 8:00 pm to 11:00 pm!!!
URL:https://themarvictavern.com/event/saturday-night-karaoke-9/
LOCATION:The Marvic Tavern\, 401 E. 2nd Street\, Oil City\, 16301\, United States
CATEGORIES:Karaoke
ATTACH;FMTTYPE=image/jpeg:https://themarvictavern.com/wp-content/uploads/2021/06/Karaoke-Saturdays.jpg
END:VEVENT
BEGIN:VEVENT
DTSTART;TZID=America/New_York:20210904T200000
DTEND;TZID=America/New_York:20210904T230000
DTSTAMP:20260423T235610
CREATED:20210825T134049Z
LAST-MODIFIED:20210825T134435Z
UID:2853-1630785600-1630796400@themarvictavern.com
SUMMARY:Saturday Night Karaoke
DESCRIPTION:Karaoke is back at The Marvic Tavern! \nKitchen is open from 3:00 pm to 9:00 pm.  \nCome on in and get your sing on from 8:00 pm to 11:00 pm!!!
URL:https://themarvictavern.com/event/saturday-night-karaoke-8/
LOCATION:The Marvic Tavern\, 401 E. 2nd Street\, Oil City\, 16301\, United States
CATEGORIES:Karaoke
ATTACH;FMTTYPE=image/jpeg:https://themarvictavern.com/wp-content/uploads/2021/06/Karaoke-Saturdays.jpg
END:VEVENT
BEGIN:VEVENT
DTSTART;TZID=America/New_York:20210731T200000
DTEND;TZID=America/New_York:20210731T230000
DTSTAMP:20260423T235610
CREATED:20210619T071446Z
LAST-MODIFIED:20210619T071446Z
UID:2733-1627761600-1627772400@themarvictavern.com
SUMMARY:Saturday Night Karaoke
DESCRIPTION:Karaoke is back at The Marvic Tavern! \nKitchen is open from 3:00 pm to 9:00 pm.  \nCome on in and get your sing on from 8:00 pm to 11:00 pm!!!
URL:https://themarvictavern.com/event/saturday-night-karaoke-6/
LOCATION:The Marvic Tavern\, 401 E. 2nd Street\, Oil City\, 16301\, United States
CATEGORIES:Karaoke
ATTACH;FMTTYPE=image/jpeg:https://themarvictavern.com/wp-content/uploads/2021/06/Karaoke-Saturdays.jpg
END:VEVENT
END:VCALENDAR