BEGIN:VCALENDAR
VERSION:2.0
PRODID:-//The Marvic Tavern - ECPv6.10.1.1//NONSGML v1.0//EN
CALSCALE:GREGORIAN
METHOD:PUBLISH
X-ORIGINAL-URL:https://themarvictavern.com
X-WR-CALDESC:Events for The Marvic Tavern
REFRESH-INTERVAL;VALUE=DURATION:PT1H
X-Robots-Tag:noindex
X-PUBLISHED-TTL:PT1H
BEGIN:VTIMEZONE
TZID:America/New_York
BEGIN:DAYLIGHT
TZOFFSETFROM:-0500
TZOFFSETTO:-0400
TZNAME:EDT
DTSTART:20210314T070000
END:DAYLIGHT
BEGIN:STANDARD
TZOFFSETFROM:-0400
TZOFFSETTO:-0500
TZNAME:EST
DTSTART:20211107T060000
END:STANDARD
END:VTIMEZONE
BEGIN:VEVENT
DTSTART;TZID=America/New_York:20211002T200000
DTEND;TZID=America/New_York:20211002T230000
DTSTAMP:20260424T115304
CREATED:20211005T154819Z
LAST-MODIFIED:20211005T154819Z
UID:2923-1633204800-1633215600@themarvictavern.com
SUMMARY:Saturday Night Karaoke
DESCRIPTION:Karaoke is back at The Marvic Tavern! \nKitchen is open from 3:00 pm to 9:00 pm.  \nCome on in and get your sing on from 8:00 pm to 11:00 pm!!!
URL:https://themarvictavern.com/event/saturday-night-karaoke-7/
LOCATION:The Marvic Tavern\, 401 E. 2nd Street\, Oil City\, 16301\, United States
CATEGORIES:Karaoke
ATTACH;FMTTYPE=image/jpeg:https://themarvictavern.com/wp-content/uploads/2021/06/Karaoke-Saturdays.jpg
END:VEVENT
BEGIN:VEVENT
DTSTART;TZID=America/New_York:20210925T200000
DTEND;TZID=America/New_York:20210925T230000
DTSTAMP:20260424T115304
CREATED:20210825T134327Z
LAST-MODIFIED:20210825T134327Z
UID:2859-1632600000-1632610800@themarvictavern.com
SUMMARY:Saturday Night Karaoke
DESCRIPTION:Karaoke is back at The Marvic Tavern! \nKitchen is open from 3:00 pm to 9:00 pm.  \nCome on in and get your sing on from 8:00 pm to 11:00 pm!!!
URL:https://themarvictavern.com/event/saturday-night-karaoke-11/
LOCATION:The Marvic Tavern\, 401 E. 2nd Street\, Oil City\, 16301\, United States
CATEGORIES:Karaoke
ATTACH;FMTTYPE=image/jpeg:https://themarvictavern.com/wp-content/uploads/2021/06/Karaoke-Saturdays.jpg
END:VEVENT
BEGIN:VEVENT
DTSTART;TZID=America/New_York:20210918T200000
DTEND;TZID=America/New_York:20210918T230000
DTSTAMP:20260424T115304
CREATED:20210825T134226Z
LAST-MODIFIED:20210825T134407Z
UID:2857-1631995200-1632006000@themarvictavern.com
SUMMARY:Saturday Night Karaoke
DESCRIPTION:Karaoke is back at The Marvic Tavern! \nKitchen is open from 3:00 pm to 9:00 pm.  \nCome on in and get your sing on from 8:00 pm to 11:00 pm!!! \n 
URL:https://themarvictavern.com/event/saturday-night-karaoke-10/
LOCATION:The Marvic Tavern\, 401 E. 2nd Street\, Oil City\, 16301\, United States
CATEGORIES:Karaoke
ATTACH;FMTTYPE=image/jpeg:https://themarvictavern.com/wp-content/uploads/2021/06/Karaoke-Saturdays.jpg
END:VEVENT
BEGIN:VEVENT
DTSTART;TZID=America/New_York:20210911T200000
DTEND;TZID=America/New_York:20210911T230000
DTSTAMP:20260424T115304
CREATED:20210825T134134Z
LAST-MODIFIED:20210825T134420Z
UID:2855-1631390400-1631401200@themarvictavern.com
SUMMARY:Saturday Night Karaoke
DESCRIPTION:Karaoke is back at The Marvic Tavern! \nKitchen is open from 3:00 pm to 9:00 pm.  \nCome on in and get your sing on from 8:00 pm to 11:00 pm!!!
URL:https://themarvictavern.com/event/saturday-night-karaoke-9/
LOCATION:The Marvic Tavern\, 401 E. 2nd Street\, Oil City\, 16301\, United States
CATEGORIES:Karaoke
ATTACH;FMTTYPE=image/jpeg:https://themarvictavern.com/wp-content/uploads/2021/06/Karaoke-Saturdays.jpg
END:VEVENT
BEGIN:VEVENT
DTSTART;TZID=America/New_York:20210904T200000
DTEND;TZID=America/New_York:20210904T230000
DTSTAMP:20260424T115304
CREATED:20210825T134049Z
LAST-MODIFIED:20210825T134435Z
UID:2853-1630785600-1630796400@themarvictavern.com
SUMMARY:Saturday Night Karaoke
DESCRIPTION:Karaoke is back at The Marvic Tavern! \nKitchen is open from 3:00 pm to 9:00 pm.  \nCome on in and get your sing on from 8:00 pm to 11:00 pm!!!
URL:https://themarvictavern.com/event/saturday-night-karaoke-8/
LOCATION:The Marvic Tavern\, 401 E. 2nd Street\, Oil City\, 16301\, United States
CATEGORIES:Karaoke
ATTACH;FMTTYPE=image/jpeg:https://themarvictavern.com/wp-content/uploads/2021/06/Karaoke-Saturdays.jpg
END:VEVENT
BEGIN:VEVENT
DTSTART;TZID=America/New_York:20210731T200000
DTEND;TZID=America/New_York:20210731T230000
DTSTAMP:20260424T115304
CREATED:20210619T071446Z
LAST-MODIFIED:20210619T071446Z
UID:2733-1627761600-1627772400@themarvictavern.com
SUMMARY:Saturday Night Karaoke
DESCRIPTION:Karaoke is back at The Marvic Tavern! \nKitchen is open from 3:00 pm to 9:00 pm.  \nCome on in and get your sing on from 8:00 pm to 11:00 pm!!!
URL:https://themarvictavern.com/event/saturday-night-karaoke-6/
LOCATION:The Marvic Tavern\, 401 E. 2nd Street\, Oil City\, 16301\, United States
CATEGORIES:Karaoke
ATTACH;FMTTYPE=image/jpeg:https://themarvictavern.com/wp-content/uploads/2021/06/Karaoke-Saturdays.jpg
END:VEVENT
BEGIN:VEVENT
DTSTART;TZID=America/New_York:20210724T200000
DTEND;TZID=America/New_York:20210724T230000
DTSTAMP:20260424T115304
CREATED:20210619T071348Z
LAST-MODIFIED:20210619T071348Z
UID:2731-1627156800-1627167600@themarvictavern.com
SUMMARY:Saturday Night Karaoke
DESCRIPTION:Karaoke is back at The Marvic Tavern! \nKitchen is open from 3:00 pm to 9:00 pm.  \nCome on in and get your sing on from 8:00 pm to 11:00 pm!!!
URL:https://themarvictavern.com/event/saturday-night-karaoke-5/
LOCATION:The Marvic Tavern\, 401 E. 2nd Street\, Oil City\, 16301\, United States
CATEGORIES:Karaoke
ATTACH;FMTTYPE=image/jpeg:https://themarvictavern.com/wp-content/uploads/2021/06/Karaoke-Saturdays.jpg
END:VEVENT
BEGIN:VEVENT
DTSTART;TZID=America/New_York:20210717T200000
DTEND;TZID=America/New_York:20210717T230000
DTSTAMP:20260424T115304
CREATED:20210619T071237Z
LAST-MODIFIED:20210619T071237Z
UID:2728-1626552000-1626562800@themarvictavern.com
SUMMARY:Saturday Night Karaoke
DESCRIPTION:Karaoke is back at The Marvic Tavern! \nKitchen is open from 3:00 pm to 9:00 pm.  \nCome on in and get your sing on from 8:00 pm to 11:00 pm!!!
URL:https://themarvictavern.com/event/saturday-night-karaoke-4/
LOCATION:The Marvic Tavern\, 401 E. 2nd Street\, Oil City\, 16301\, United States
CATEGORIES:Karaoke
ATTACH;FMTTYPE=image/jpeg:https://themarvictavern.com/wp-content/uploads/2021/06/Karaoke-Saturdays.jpg
END:VEVENT
BEGIN:VEVENT
DTSTART;TZID=America/New_York:20210710T200000
DTEND;TZID=America/New_York:20210710T230000
DTSTAMP:20260424T115304
CREATED:20210619T071139Z
LAST-MODIFIED:20210619T071139Z
UID:2726-1625947200-1625958000@themarvictavern.com
SUMMARY:Saturday Night Karaoke
DESCRIPTION:Karaoke is back at The Marvic Tavern! \nKitchen is open from 3:00 pm to 9:00 pm.  \nCome on in and get your sing on from 8:00 pm to 11:00 pm!!!
URL:https://themarvictavern.com/event/saturday-night-karaoke-3/
LOCATION:The Marvic Tavern\, 401 E. 2nd Street\, Oil City\, 16301\, United States
CATEGORIES:Karaoke
ATTACH;FMTTYPE=image/jpeg:https://themarvictavern.com/wp-content/uploads/2021/06/Karaoke-Saturdays.jpg
END:VEVENT
BEGIN:VEVENT
DTSTART;TZID=America/New_York:20210703T200000
DTEND;TZID=America/New_York:20210703T230000
DTSTAMP:20260424T115304
CREATED:20210612T133600Z
LAST-MODIFIED:20210618T001358Z
UID:2485-1625342400-1625353200@themarvictavern.com
SUMMARY:Saturday Night Karaoke
DESCRIPTION:Karaoke is back at The Marvic Tavern! \nKitchen is open from 3:00 pm to 9:00 pm.  \nCome on in and get your sing on from 8:00 pm to 11:00 pm!!!
URL:https://themarvictavern.com/event/saturday-night-karaoke/
LOCATION:The Marvic Tavern\, 401 E. 2nd Street\, Oil City\, 16301\, United States
CATEGORIES:Karaoke
ATTACH;FMTTYPE=image/jpeg:https://themarvictavern.com/wp-content/uploads/2021/06/Karaoke-Saturdays.jpg
END:VEVENT
BEGIN:VEVENT
DTSTART;TZID=America/New_York:20210626T200000
DTEND;TZID=America/New_York:20210626T230000
DTSTAMP:20260424T115304
CREATED:20210618T001459Z
LAST-MODIFIED:20210618T001459Z
UID:2632-1624737600-1624748400@themarvictavern.com
SUMMARY:Saturday Night Karaoke
DESCRIPTION:Karaoke is back at The Marvic Tavern! \nKitchen is open from 3:00 pm to 9:00 pm.  \nCome on in and get your sing on from 8:00 pm to 11:00 pm!!!
URL:https://themarvictavern.com/event/saturday-night-karaoke-2/
LOCATION:The Marvic Tavern\, 401 E. 2nd Street\, Oil City\, 16301\, United States
CATEGORIES:Karaoke
ATTACH;FMTTYPE=image/jpeg:https://themarvictavern.com/wp-content/uploads/2021/06/Karaoke-Saturdays.jpg
END:VEVENT
BEGIN:VEVENT
DTSTART;TZID=America/New_York:20210619T200000
DTEND;TZID=America/New_York:20210619T230000
DTSTAMP:20260424T115304
CREATED:20210612T133307Z
LAST-MODIFIED:20210612T133454Z
UID:2481-1624132800-1624143600@themarvictavern.com
SUMMARY:Saturday Night Karaoke
DESCRIPTION:Karaoke is back at The Marvic Tavern!\n \nStarting this Saturday June 12th we will be hosting Karaoke every Saturday evening.  \nKitchen open from 3 pm to 9 pm.  \nCome on in and get your sing on from 8 pm to 11 pm!!!
URL:https://themarvictavern.com/event/saturday-karaoke-is-back-2/
LOCATION:The Marvic Tavern\, 401 E. 2nd Street\, Oil City\, 16301\, United States
CATEGORIES:Karaoke
ATTACH;FMTTYPE=image/jpeg:https://themarvictavern.com/wp-content/uploads/2021/06/Karaoke-Saturdays.jpg
END:VEVENT
BEGIN:VEVENT
DTSTART;TZID=America/New_York:20210612T200000
DTEND;TZID=America/New_York:20210612T230000
DTSTAMP:20260424T115304
CREATED:20210612T133202Z
LAST-MODIFIED:20210612T133647Z
UID:2478-1623528000-1623538800@themarvictavern.com
SUMMARY:Saturday Karaoke is Back
DESCRIPTION:We’re back!!!  \nStarting this Saturday June 12th!  \nKitchen open from 3 to 9pm.  \nCome on in and get your sing on !
URL:https://themarvictavern.com/event/saturday-karaoke-is-back/
LOCATION:The Marvic Tavern\, 401 E. 2nd Street\, Oil City\, 16301\, United States
CATEGORIES:Karaoke
ATTACH;FMTTYPE=image/jpeg:https://themarvictavern.com/wp-content/uploads/2021/06/Karaoke-Saturdays.jpg
END:VEVENT
END:VCALENDAR