BEGIN:VCALENDAR
VERSION:2.0
PRODID:-//The Marvic Tavern - ECPv6.10.1.1//NONSGML v1.0//EN
CALSCALE:GREGORIAN
METHOD:PUBLISH
X-WR-CALNAME:The Marvic Tavern
X-ORIGINAL-URL:https://themarvictavern.com
X-WR-CALDESC:Events for The Marvic Tavern
REFRESH-INTERVAL;VALUE=DURATION:PT1H
X-Robots-Tag:noindex
X-PUBLISHED-TTL:PT1H
BEGIN:VTIMEZONE
TZID:America/New_York
BEGIN:DAYLIGHT
TZOFFSETFROM:-0500
TZOFFSETTO:-0400
TZNAME:EDT
DTSTART:20240310T070000
END:DAYLIGHT
BEGIN:STANDARD
TZOFFSETFROM:-0400
TZOFFSETTO:-0500
TZNAME:EST
DTSTART:20241103T060000
END:STANDARD
END:VTIMEZONE
BEGIN:VEVENT
DTSTART;TZID=America/New_York:20240402T150000
DTEND;TZID=America/New_York:20240402T200000
DTSTAMP:20260421T223524
CREATED:20240330T171507Z
LAST-MODIFIED:20240330T171536Z
UID:3424-1712070000-1712088000@themarvictavern.com
SUMMARY:Taco Tuesday
DESCRIPTION:
URL:https://themarvictavern.com/event/taco-tuesday/
LOCATION:The Marvic Tavern\, 401 E. 2nd Street\, Oil City\, 16301\, United States
CATEGORIES:Taco Night
ATTACH;FMTTYPE=image/jpeg:https://themarvictavern.com/wp-content/uploads/2024/03/The-Marvic-Taco-Night.jpg
END:VEVENT
BEGIN:VEVENT
DTSTART;TZID=America/New_York:20240409T150000
DTEND;TZID=America/New_York:20240409T200000
DTSTAMP:20260421T223524
CREATED:20240330T171714Z
LAST-MODIFIED:20240330T171714Z
UID:3427-1712674800-1712692800@themarvictavern.com
SUMMARY:Taco Tuesday
DESCRIPTION:
URL:https://themarvictavern.com/event/taco-tuesday-2/
LOCATION:The Marvic Tavern\, 401 E. 2nd Street\, Oil City\, 16301\, United States
CATEGORIES:Taco Night
ATTACH;FMTTYPE=image/jpeg:https://themarvictavern.com/wp-content/uploads/2024/03/The-Marvic-Taco-Night.jpg
END:VEVENT
BEGIN:VEVENT
DTSTART;TZID=America/New_York:20240416T150000
DTEND;TZID=America/New_York:20240416T200000
DTSTAMP:20260421T223524
CREATED:20240330T171923Z
LAST-MODIFIED:20240330T171923Z
UID:3431-1713279600-1713297600@themarvictavern.com
SUMMARY:Taco Tuesday
DESCRIPTION:
URL:https://themarvictavern.com/event/taco-tuesday-4/
LOCATION:The Marvic Tavern\, 401 E. 2nd Street\, Oil City\, 16301\, United States
CATEGORIES:Taco Night
ATTACH;FMTTYPE=image/jpeg:https://themarvictavern.com/wp-content/uploads/2024/03/The-Marvic-Taco-Night.jpg
END:VEVENT
BEGIN:VEVENT
DTSTART;TZID=America/New_York:20240423T150000
DTEND;TZID=America/New_York:20240423T200000
DTSTAMP:20260421T223524
CREATED:20240330T172013Z
LAST-MODIFIED:20240330T172013Z
UID:3433-1713884400-1713902400@themarvictavern.com
SUMMARY:Taco Tuesday
DESCRIPTION:
URL:https://themarvictavern.com/event/taco-tuesday-5/
LOCATION:The Marvic Tavern\, 401 E. 2nd Street\, Oil City\, 16301\, United States
CATEGORIES:Taco Night
ATTACH;FMTTYPE=image/jpeg:https://themarvictavern.com/wp-content/uploads/2024/03/The-Marvic-Taco-Night.jpg
END:VEVENT
END:VCALENDAR