BEGIN:VCALENDAR
VERSION:2.0
PRODID:-//The Marvic Tavern - ECPv6.10.1.1//NONSGML v1.0//EN
CALSCALE:GREGORIAN
METHOD:PUBLISH
X-WR-CALNAME:The Marvic Tavern
X-ORIGINAL-URL:https://themarvictavern.com
X-WR-CALDESC:Events for The Marvic Tavern
REFRESH-INTERVAL;VALUE=DURATION:PT1H
X-Robots-Tag:noindex
X-PUBLISHED-TTL:PT1H
BEGIN:VTIMEZONE
TZID:America/New_York
BEGIN:DAYLIGHT
TZOFFSETFROM:-0500
TZOFFSETTO:-0400
TZNAME:EDT
DTSTART:20210314T070000
END:DAYLIGHT
BEGIN:STANDARD
TZOFFSETFROM:-0400
TZOFFSETTO:-0500
TZNAME:EST
DTSTART:20211107T060000
END:STANDARD
END:VTIMEZONE
BEGIN:VEVENT
DTSTART;TZID=America/New_York:20211120T200000
DTEND;TZID=America/New_York:20211120T230000
DTSTAMP:20260420T012232
CREATED:20211025T143039Z
LAST-MODIFIED:20211025T143039Z
UID:2940-1637438400-1637449200@themarvictavern.com
SUMMARY:Saturday Night Karaoke
DESCRIPTION:Karaoke is back at The Marvic Tavern! \nKitchen is open from 3:00 pm to 9:00 pm.  \nCome on in and get your sing on from 8:00 pm to 11:00 pm!!!
URL:https://themarvictavern.com/event/saturday-night-karaoke-17/
LOCATION:The Marvic Tavern\, 401 E. 2nd Street\, Oil City\, 16301\, United States
CATEGORIES:Karaoke
ATTACH;FMTTYPE=image/jpeg:https://themarvictavern.com/wp-content/uploads/2021/06/Karaoke-Saturdays.jpg
END:VEVENT
BEGIN:VEVENT
DTSTART;TZID=America/New_York:20211119T200000
DTEND;TZID=America/New_York:20211119T230000
DTSTAMP:20260420T012232
CREATED:20211025T143603Z
LAST-MODIFIED:20211025T143759Z
UID:2948-1637352000-1637362800@themarvictavern.com
SUMMARY:Friday Night Fish Fry
DESCRIPTION:Friday Night Fish Fry!!!\n\nCome on out and enjoy our deck in the beautiful summer weather!\n\nWe will have fried and baked fish dinners\, and fish sandwich dinners that will include delicious Haddock fillets\, choice of fries or baked potato\, slaw or apple sauce\, and hush puppies.\n\nDinners are $10.95 each and sandwich platters are $8.95.\n\nYou can also order just a fish sandwich for only $5.50.\n\nCome on in on Friday and help us bring back a great tradition to The Marvic Tavern!\n\nThe Marvic crew looks forward to seeing you!\n\nOf course\, take out is always available. Please call ahead for take out orders 814-677-9981.
URL:https://themarvictavern.com/event/friday-night-fish-fry-22/
LOCATION:The Marvic Tavern\, 401 E. 2nd Street\, Oil City\, 16301\, United States
CATEGORIES:Fish Fridays
ATTACH;FMTTYPE=image/jpeg:https://themarvictavern.com/wp-content/uploads/2021/06/Marvic-Slider-Food-2.jpg
END:VEVENT
BEGIN:VEVENT
DTSTART;TZID=America/New_York:20211118T170000
DTEND;TZID=America/New_York:20211118T210000
DTSTAMP:20260420T012232
CREATED:20211025T144438Z
LAST-MODIFIED:20211025T144438Z
UID:2960-1637254800-1637269200@themarvictavern.com
SUMMARY:Thursday Wing Night
DESCRIPTION:Come on out for Jumbo Wings\, Deep Fried Things\, and Cold Beer!  \nFrom 5:00 pm – 9:00 pm join us for our Famous Jumbo Chicken Wings!  \nYou get 10 wings with your choice of 8 delicious sauces or 9 tasty dry spice flavors.  \nWe also have chicken tenders serves with the same dry rubs or sauces. See our menu for a complete list of sides and appetizers. \nWe now have pizza logs\, made in-house!  \nOf course\, take-out is always available. Please call ahead for take-out orders at 814-677-9981.
URL:https://themarvictavern.com/event/thursday-wing-night-18/
LOCATION:The Marvic Tavern\, 401 E. 2nd Street\, Oil City\, 16301\, United States
CATEGORIES:Wing Night
ATTACH;FMTTYPE=image/jpeg:https://themarvictavern.com/wp-content/uploads/2021/06/Wings.jpg
END:VEVENT
BEGIN:VEVENT
DTSTART;TZID=America/New_York:20211113T200000
DTEND;TZID=America/New_York:20211113T230000
DTSTAMP:20260420T012232
CREATED:20211025T143002Z
LAST-MODIFIED:20211025T143002Z
UID:2941-1636833600-1636844400@themarvictavern.com
SUMMARY:Saturday Night Karaoke
DESCRIPTION:Karaoke is back at The Marvic Tavern! \nKitchen is open from 3:00 pm to 9:00 pm.  \nCome on in and get your sing on from 8:00 pm to 11:00 pm!!!
URL:https://themarvictavern.com/event/saturday-night-karaoke-16/
LOCATION:The Marvic Tavern\, 401 E. 2nd Street\, Oil City\, 16301\, United States
CATEGORIES:Karaoke
ATTACH;FMTTYPE=image/jpeg:https://themarvictavern.com/wp-content/uploads/2021/06/Karaoke-Saturdays.jpg
END:VEVENT
BEGIN:VEVENT
DTSTART;TZID=America/New_York:20211112T200000
DTEND;TZID=America/New_York:20211112T230000
DTSTAMP:20260420T012232
CREATED:20211025T143535Z
LAST-MODIFIED:20211025T143811Z
UID:2949-1636747200-1636758000@themarvictavern.com
SUMMARY:Friday Night Fish Fry
DESCRIPTION:Friday Night Fish Fry!!!\n\nCome on out and enjoy our deck in the beautiful summer weather!\n\nWe will have fried and baked fish dinners\, and fish sandwich dinners that will include delicious Haddock fillets\, choice of fries or baked potato\, slaw or apple sauce\, and hush puppies.\n\nDinners are $10.95 each and sandwich platters are $8.95.\n\nYou can also order just a fish sandwich for only $5.50.\n\nCome on in on Friday and help us bring back a great tradition to The Marvic Tavern!\n\nThe Marvic crew looks forward to seeing you!\n\nOf course\, take out is always available. Please call ahead for take out orders 814-677-9981.
URL:https://themarvictavern.com/event/friday-night-fish-fry-21/
LOCATION:The Marvic Tavern\, 401 E. 2nd Street\, Oil City\, 16301\, United States
CATEGORIES:Fish Fridays
ATTACH;FMTTYPE=image/jpeg:https://themarvictavern.com/wp-content/uploads/2021/06/Marvic-Slider-Food-2.jpg
END:VEVENT
BEGIN:VEVENT
DTSTART;TZID=America/New_York:20211111T170000
DTEND;TZID=America/New_York:20211111T210000
DTSTAMP:20260420T012232
CREATED:20211025T144457Z
LAST-MODIFIED:20211025T144457Z
UID:2959-1636650000-1636664400@themarvictavern.com
SUMMARY:Thursday Wing Night
DESCRIPTION:Come on out for Jumbo Wings\, Deep Fried Things\, and Cold Beer!  \nFrom 5:00 pm – 9:00 pm join us for our Famous Jumbo Chicken Wings!  \nYou get 10 wings with your choice of 8 delicious sauces or 9 tasty dry spice flavors.  \nWe also have chicken tenders serves with the same dry rubs or sauces. See our menu for a complete list of sides and appetizers. \nWe now have pizza logs\, made in-house!  \nOf course\, take-out is always available. Please call ahead for take-out orders at 814-677-9981.
URL:https://themarvictavern.com/event/thursday-wing-night-19/
LOCATION:The Marvic Tavern\, 401 E. 2nd Street\, Oil City\, 16301\, United States
CATEGORIES:Wing Night
ATTACH;FMTTYPE=image/jpeg:https://themarvictavern.com/wp-content/uploads/2021/06/Wings.jpg
END:VEVENT
BEGIN:VEVENT
DTSTART;TZID=America/New_York:20211106T200000
DTEND;TZID=America/New_York:20211106T230000
DTSTAMP:20260420T012232
CREATED:20211005T155136Z
LAST-MODIFIED:20211005T155136Z
UID:2931-1636228800-1636239600@themarvictavern.com
SUMMARY:Saturday Night Karaoke
DESCRIPTION:Karaoke is back at The Marvic Tavern! \nKitchen is open from 3:00 pm to 9:00 pm.  \nCome on in and get your sing on from 8:00 pm to 11:00 pm!!!
URL:https://themarvictavern.com/event/saturday-night-karaoke-15/
LOCATION:The Marvic Tavern\, 401 E. 2nd Street\, Oil City\, 16301\, United States
CATEGORIES:Karaoke
ATTACH;FMTTYPE=image/jpeg:https://themarvictavern.com/wp-content/uploads/2021/06/Karaoke-Saturdays.jpg
END:VEVENT
BEGIN:VEVENT
DTSTART;TZID=America/New_York:20211105T200000
DTEND;TZID=America/New_York:20211105T230000
DTSTAMP:20260420T012232
CREATED:20211005T154626Z
LAST-MODIFIED:20211025T143723Z
UID:2921-1636142400-1636153200@themarvictavern.com
SUMMARY:Friday Night Fish Fry
DESCRIPTION:Friday Night Fish Fry!!!\n\nCome on out and enjoy our deck in the beautiful summer weather!\n\nWe will have fried and baked fish dinners\, and fish sandwich dinners that will include delicious Haddock fillets\, choice of fries or baked potato\, slaw or apple sauce\, and hush puppies.\n\nDinners are $10.95 each and sandwich platters are $8.95.\n\nYou can also order just a fish sandwich for only $5.50.\n\nCome on in on Friday and help us bring back a great tradition to The Marvic Tavern!\n\nThe Marvic crew looks forward to seeing you!\n\nOf course\, take out is always available. Please call ahead for take out orders 814-677-9981.
URL:https://themarvictavern.com/event/friday-night-fish-fry-20/
LOCATION:The Marvic Tavern\, 401 E. 2nd Street\, Oil City\, 16301\, United States
CATEGORIES:Fish Fridays
ATTACH;FMTTYPE=image/jpeg:https://themarvictavern.com/wp-content/uploads/2021/06/Marvic-Slider-Food-2.jpg
END:VEVENT
BEGIN:VEVENT
DTSTART;TZID=America/New_York:20211104T170000
DTEND;TZID=America/New_York:20211104T210000
DTSTAMP:20260420T012232
CREATED:20211005T155233Z
LAST-MODIFIED:20211005T155233Z
UID:2933-1636045200-1636059600@themarvictavern.com
SUMMARY:Thursday Wing Night
DESCRIPTION:Come on out for Jumbo Wings\, Deep Fried Things\, and Cold Beer!  \nFrom 5:00 pm – 9:00 pm join us for our Famous Jumbo Chicken Wings!  \nYou get 10 wings with your choice of 8 delicious sauces or 9 tasty dry spice flavors.  \nWe also have chicken tenders serves with the same dry rubs or sauces. See our menu for a complete list of sides and appetizers. \nWe now have pizza logs\, made in-house!  \nOf course\, take-out is always available. Please call ahead for take-out orders at 814-677-9981.
URL:https://themarvictavern.com/event/thursday-wing-night-15/
LOCATION:The Marvic Tavern\, 401 E. 2nd Street\, Oil City\, 16301\, United States
CATEGORIES:Wing Night
ATTACH;FMTTYPE=image/jpeg:https://themarvictavern.com/wp-content/uploads/2021/06/Wings.jpg
END:VEVENT
BEGIN:VEVENT
DTSTART;TZID=America/New_York:20211030T210000
DTEND;TZID=America/New_York:20211031T010000
DTSTAMP:20260420T012232
CREATED:20211005T144848Z
LAST-MODIFIED:20211005T144848Z
UID:2916-1635627600-1635642000@themarvictavern.com
SUMMARY:Halloween Party and Scaryoke
DESCRIPTION:Eat\, Drink & Be Scary.\nReady for a spooky good time? Check out our Halloween party at The Marvic\, and come dressed to kill for a costume contest at midnight! Don’t forget to bring your best spooky singing voice for Scaryoke!
URL:https://themarvictavern.com/event/halloween-party-and-scaryoke/
LOCATION:The Marvic Tavern\, 401 E. 2nd Street\, Oil City\, 16301\, United States
ATTACH;FMTTYPE=image/jpeg:https://themarvictavern.com/wp-content/uploads/2021/10/shutterstock_477338587.0.0.jpg
END:VEVENT
BEGIN:VEVENT
DTSTART;TZID=America/New_York:20211029T170000
DTEND;TZID=America/New_York:20211029T210000
DTSTAMP:20260420T012232
CREATED:20210825T135459Z
LAST-MODIFIED:20210825T135459Z
UID:2865-1635526800-1635541200@themarvictavern.com
SUMMARY:Friday Night Fish Fry!
DESCRIPTION:Friday Night Fish Fry!!!\n\nCome on out and enjoy our deck in the beautiful summer weather!\n\nWe will have fried and baked fish dinners\, and fish sandwich dinners that will include delicious Haddock fillets\, choice of fries or baked potato\, slaw or apple sauce\, and hush puppies.\n\nDinners are $10.95 each and sandwich platters are $8.95.\n\nYou can also order just a fish sandwich for only $5.50.\n\nCome on in on Friday and help us bring back a great tradition to The Marvic Tavern!\n\nThe Marvic crew looks forward to seeing you!\n\nOf course\, take out is always available. Please call ahead for take out orders 814-677-9981.
URL:https://themarvictavern.com/event/friday-night-fish-fry-14/
LOCATION:The Marvic Tavern\, 401 E. 2nd Street\, Oil City\, 16301\, United States
CATEGORIES:Fish Fridays
ATTACH;FMTTYPE=image/jpeg:https://themarvictavern.com/wp-content/uploads/2021/06/Marvic-Slider-Food-2.jpg
END:VEVENT
BEGIN:VEVENT
DTSTART;TZID=America/New_York:20211028T170000
DTEND;TZID=America/New_York:20211028T210000
DTSTAMP:20260420T012232
CREATED:20211005T135420Z
LAST-MODIFIED:20211005T135420Z
UID:2910-1635440400-1635454800@themarvictavern.com
SUMMARY:Thursday Wing Night
DESCRIPTION:Come on out for Jumbo Wings\, Deep Fried Things\, and Cold Beer!  \nFrom 5:00 pm – 9:00 pm join us for our Famous Jumbo Chicken Wings!  \nYou get 10 wings with your choice of 8 delicious sauces or 9 tasty dry spice flavors.  \nWe also have chicken tenders serves with the same dry rubs or sauces. See our menu for a complete list of sides and appetizers. \nWe now have pizza logs\, made in-house!  \nOf course\, take-out is always available. Please call ahead for take-out orders at 814-677-9981.
URL:https://themarvictavern.com/event/thursday-wing-night-14/
LOCATION:The Marvic Tavern\, 401 E. 2nd Street\, Oil City\, 16301\, United States
CATEGORIES:Wing Night
ATTACH;FMTTYPE=image/jpeg:https://themarvictavern.com/wp-content/uploads/2021/06/Wings.jpg
END:VEVENT
BEGIN:VEVENT
DTSTART;TZID=America/New_York:20211023T200000
DTEND;TZID=America/New_York:20211023T230000
DTSTAMP:20260420T012232
CREATED:20211005T155019Z
LAST-MODIFIED:20211005T155019Z
UID:2929-1635019200-1635030000@themarvictavern.com
SUMMARY:Saturday Night Karaoke
DESCRIPTION:Karaoke is back at The Marvic Tavern! \nKitchen is open from 3:00 pm to 9:00 pm.  \nCome on in and get your sing on from 8:00 pm to 11:00 pm!!!
URL:https://themarvictavern.com/event/saturday-night-karaoke-14/
LOCATION:The Marvic Tavern\, 401 E. 2nd Street\, Oil City\, 16301\, United States
CATEGORIES:Karaoke
ATTACH;FMTTYPE=image/jpeg:https://themarvictavern.com/wp-content/uploads/2021/06/Karaoke-Saturdays.jpg
END:VEVENT
BEGIN:VEVENT
DTSTART;TZID=America/New_York:20211022T170000
DTEND;TZID=America/New_York:20211022T210000
DTSTAMP:20260420T012232
CREATED:20210825T135517Z
LAST-MODIFIED:20210825T135517Z
UID:2864-1634922000-1634936400@themarvictavern.com
SUMMARY:Friday Night Fish Fry!
DESCRIPTION:Friday Night Fish Fry!!!\n\nCome on out and enjoy our deck in the beautiful summer weather!\n\nWe will have fried and baked fish dinners\, and fish sandwich dinners that will include delicious Haddock fillets\, choice of fries or baked potato\, slaw or apple sauce\, and hush puppies.\n\nDinners are $10.95 each and sandwich platters are $8.95.\n\nYou can also order just a fish sandwich for only $5.50.\n\nCome on in on Friday and help us bring back a great tradition to The Marvic Tavern!\n\nThe Marvic crew looks forward to seeing you!\n\nOf course\, take out is always available. Please call ahead for take out orders 814-677-9981.
URL:https://themarvictavern.com/event/friday-night-fish-fry-15/
LOCATION:The Marvic Tavern\, 401 E. 2nd Street\, Oil City\, 16301\, United States
CATEGORIES:Fish Fridays
ATTACH;FMTTYPE=image/jpeg:https://themarvictavern.com/wp-content/uploads/2021/06/Marvic-Slider-Food-2.jpg
END:VEVENT
BEGIN:VEVENT
DTSTART;TZID=America/New_York:20211021T170000
DTEND;TZID=America/New_York:20211021T210000
DTSTAMP:20260420T012232
CREATED:20211005T135342Z
LAST-MODIFIED:20211005T135342Z
UID:2908-1634835600-1634850000@themarvictavern.com
SUMMARY:Thursday Wing Night
DESCRIPTION:Come on out for Jumbo Wings\, Deep Fried Things\, and Cold Beer!  \nFrom 5:00 pm – 9:00 pm join us for our Famous Jumbo Chicken Wings!  \nYou get 10 wings with your choice of 8 delicious sauces or 9 tasty dry spice flavors.  \nWe also have chicken tenders serves with the same dry rubs or sauces. See our menu for a complete list of sides and appetizers. \nWe now have pizza logs\, made in-house!  \nOf course\, take-out is always available. Please call ahead for take-out orders at 814-677-9981.
URL:https://themarvictavern.com/event/thursday-wing-night-13/
LOCATION:The Marvic Tavern\, 401 E. 2nd Street\, Oil City\, 16301\, United States
CATEGORIES:Wing Night
ATTACH;FMTTYPE=image/jpeg:https://themarvictavern.com/wp-content/uploads/2021/06/Wings.jpg
END:VEVENT
BEGIN:VEVENT
DTSTART;TZID=America/New_York:20211016T200000
DTEND;TZID=America/New_York:20211016T230000
DTSTAMP:20260420T012232
CREATED:20211005T154940Z
LAST-MODIFIED:20211005T154940Z
UID:2927-1634414400-1634425200@themarvictavern.com
SUMMARY:Saturday Night Karaoke
DESCRIPTION:Karaoke is back at The Marvic Tavern! \nKitchen is open from 3:00 pm to 9:00 pm.  \nCome on in and get your sing on from 8:00 pm to 11:00 pm!!!
URL:https://themarvictavern.com/event/saturday-night-karaoke-13/
LOCATION:The Marvic Tavern\, 401 E. 2nd Street\, Oil City\, 16301\, United States
CATEGORIES:Karaoke
ATTACH;FMTTYPE=image/jpeg:https://themarvictavern.com/wp-content/uploads/2021/06/Karaoke-Saturdays.jpg
END:VEVENT
BEGIN:VEVENT
DTSTART;TZID=America/New_York:20211015T170000
DTEND;TZID=America/New_York:20211015T210000
DTSTAMP:20260420T012232
CREATED:20210825T135537Z
LAST-MODIFIED:20210825T135537Z
UID:2863-1634317200-1634331600@themarvictavern.com
SUMMARY:Friday Night Fish Fry!
DESCRIPTION:Friday Night Fish Fry!!!\n\nCome on out and enjoy our deck in the beautiful summer weather!\n\nWe will have fried and baked fish dinners\, and fish sandwich dinners that will include delicious Haddock fillets\, choice of fries or baked potato\, slaw or apple sauce\, and hush puppies.\n\nDinners are $10.95 each and sandwich platters are $8.95.\n\nYou can also order just a fish sandwich for only $5.50.\n\nCome on in on Friday and help us bring back a great tradition to The Marvic Tavern!\n\nThe Marvic crew looks forward to seeing you!\n\nOf course\, take out is always available. Please call ahead for take out orders 814-677-9981.
URL:https://themarvictavern.com/event/friday-night-fish-fry-16/
LOCATION:The Marvic Tavern\, 401 E. 2nd Street\, Oil City\, 16301\, United States
CATEGORIES:Fish Fridays
ATTACH;FMTTYPE=image/jpeg:https://themarvictavern.com/wp-content/uploads/2021/06/Marvic-Slider-Food-2.jpg
END:VEVENT
BEGIN:VEVENT
DTSTART;TZID=America/New_York:20211014T170000
DTEND;TZID=America/New_York:20211014T210000
DTSTAMP:20260420T012232
CREATED:20211005T135239Z
LAST-MODIFIED:20211005T135239Z
UID:2906-1634230800-1634245200@themarvictavern.com
SUMMARY:Thursday Wing Night
DESCRIPTION:Come on out for Jumbo Wings\, Deep Fried Things\, and Cold Beer!  \nFrom 5:00 pm – 9:00 pm join us for our Famous Jumbo Chicken Wings!  \nYou get 10 wings with your choice of 8 delicious sauces or 9 tasty dry spice flavors.  \nWe also have chicken tenders serves with the same dry rubs or sauces. See our menu for a complete list of sides and appetizers. \nWe now have pizza logs\, made in-house!  \nOf course\, take-out is always available. Please call ahead for take-out orders at 814-677-9981.
URL:https://themarvictavern.com/event/thursday-wing-night-12/
LOCATION:The Marvic Tavern\, 401 E. 2nd Street\, Oil City\, 16301\, United States
CATEGORIES:Wing Night
ATTACH;FMTTYPE=image/jpeg:https://themarvictavern.com/wp-content/uploads/2021/06/Wings.jpg
END:VEVENT
BEGIN:VEVENT
DTSTART;TZID=America/New_York:20211009T200000
DTEND;TZID=America/New_York:20211009T230000
DTSTAMP:20260420T012232
CREATED:20211005T154901Z
LAST-MODIFIED:20211005T154901Z
UID:2925-1633809600-1633820400@themarvictavern.com
SUMMARY:Saturday Night Karaoke
DESCRIPTION:Karaoke is back at The Marvic Tavern! \nKitchen is open from 3:00 pm to 9:00 pm.  \nCome on in and get your sing on from 8:00 pm to 11:00 pm!!!
URL:https://themarvictavern.com/event/saturday-night-karaoke-12/
LOCATION:The Marvic Tavern\, 401 E. 2nd Street\, Oil City\, 16301\, United States
CATEGORIES:Karaoke
ATTACH;FMTTYPE=image/jpeg:https://themarvictavern.com/wp-content/uploads/2021/06/Karaoke-Saturdays.jpg
END:VEVENT
BEGIN:VEVENT
DTSTART;TZID=America/New_York:20211009T160000
DTEND;TZID=America/New_York:20211009T190000
DTSTAMP:20260420T012232
CREATED:20211005T140100Z
LAST-MODIFIED:20211005T140753Z
UID:2912-1633795200-1633806000@themarvictavern.com
SUMMARY:Schintzandgiggles
DESCRIPTION:Join us for Oktoberfest 2021 – no travel passports needed!!
URL:https://themarvictavern.com/event/schintzandgiggles/
LOCATION:The Marvic Tavern\, 401 E. 2nd Street\, Oil City\, 16301\, United States
ATTACH;FMTTYPE=image/png:https://themarvictavern.com/wp-content/uploads/2021/06/New-Logo-400-1.png
END:VEVENT
BEGIN:VEVENT
DTSTART;TZID=America/New_York:20211008T170000
DTEND;TZID=America/New_York:20211008T210000
DTSTAMP:20260420T012232
CREATED:20210825T135556Z
LAST-MODIFIED:20210825T135556Z
UID:2862-1633712400-1633726800@themarvictavern.com
SUMMARY:Friday Night Fish Fry!
DESCRIPTION:Friday Night Fish Fry!!!\n\nCome on out and enjoy our deck in the beautiful summer weather!\n\nWe will have fried and baked fish dinners\, and fish sandwich dinners that will include delicious Haddock fillets\, choice of fries or baked potato\, slaw or apple sauce\, and hush puppies.\n\nDinners are $10.95 each and sandwich platters are $8.95.\n\nYou can also order just a fish sandwich for only $5.50.\n\nCome on in on Friday and help us bring back a great tradition to The Marvic Tavern!\n\nThe Marvic crew looks forward to seeing you!\n\nOf course\, take out is always available. Please call ahead for take out orders 814-677-9981.
URL:https://themarvictavern.com/event/friday-night-fish-fry-17/
LOCATION:The Marvic Tavern\, 401 E. 2nd Street\, Oil City\, 16301\, United States
CATEGORIES:Fish Fridays
ATTACH;FMTTYPE=image/jpeg:https://themarvictavern.com/wp-content/uploads/2021/06/Marvic-Slider-Food-2.jpg
END:VEVENT
BEGIN:VEVENT
DTSTART;TZID=America/New_York:20211007T170000
DTEND;TZID=America/New_York:20211007T210000
DTSTAMP:20260420T012232
CREATED:20211005T135144Z
LAST-MODIFIED:20211005T135144Z
UID:2904-1633626000-1633640400@themarvictavern.com
SUMMARY:Thursday Wing Night
DESCRIPTION:Come on out for Jumbo Wings\, Deep Fried Things\, and Cold Beer!  \nFrom 5:00 pm – 9:00 pm join us for our Famous Jumbo Chicken Wings!  \nYou get 10 wings with your choice of 8 delicious sauces or 9 tasty dry spice flavors.  \nWe also have chicken tenders serves with the same dry rubs or sauces. See our menu for a complete list of sides and appetizers. \nWe now have pizza logs\, made in-house!  \nOf course\, take-out is always available. Please call ahead for take-out orders at 814-677-9981.
URL:https://themarvictavern.com/event/thursday-wing-night-11/
LOCATION:The Marvic Tavern\, 401 E. 2nd Street\, Oil City\, 16301\, United States
CATEGORIES:Wing Night
ATTACH;FMTTYPE=image/jpeg:https://themarvictavern.com/wp-content/uploads/2021/06/Wings.jpg
END:VEVENT
BEGIN:VEVENT
DTSTART;TZID=America/New_York:20211002T200000
DTEND;TZID=America/New_York:20211002T230000
DTSTAMP:20260420T012232
CREATED:20211005T154819Z
LAST-MODIFIED:20211005T154819Z
UID:2923-1633204800-1633215600@themarvictavern.com
SUMMARY:Saturday Night Karaoke
DESCRIPTION:Karaoke is back at The Marvic Tavern! \nKitchen is open from 3:00 pm to 9:00 pm.  \nCome on in and get your sing on from 8:00 pm to 11:00 pm!!!
URL:https://themarvictavern.com/event/saturday-night-karaoke-7/
LOCATION:The Marvic Tavern\, 401 E. 2nd Street\, Oil City\, 16301\, United States
CATEGORIES:Karaoke
ATTACH;FMTTYPE=image/jpeg:https://themarvictavern.com/wp-content/uploads/2021/06/Karaoke-Saturdays.jpg
END:VEVENT
BEGIN:VEVENT
DTSTART;TZID=America/New_York:20211001T170000
DTEND;TZID=America/New_York:20211001T210000
DTSTAMP:20260420T012232
CREATED:20210825T135154Z
LAST-MODIFIED:20210825T135154Z
UID:2861-1633107600-1633122000@themarvictavern.com
SUMMARY:Friday Night Fish Fry!
DESCRIPTION:Friday Night Fish Fry!!!\n\nCome on out and enjoy our deck in the beautiful summer weather!\n\nWe will have fried and baked fish dinners\, and fish sandwich dinners that will include delicious Haddock fillets\, choice of fries or baked potato\, slaw or apple sauce\, and hush puppies.\n\nDinners are $10.95 each and sandwich platters are $8.95.\n\nYou can also order just a fish sandwich for only $5.50.\n\nCome on in on Friday and help us bring back a great tradition to The Marvic Tavern!\n\nThe Marvic crew looks forward to seeing you!\n\nOf course\, take out is always available. Please call ahead for take out orders 814-677-9981.
URL:https://themarvictavern.com/event/friday-night-fish-fry-13/
LOCATION:The Marvic Tavern\, 401 E. 2nd Street\, Oil City\, 16301\, United States
CATEGORIES:Fish Fridays
ATTACH;FMTTYPE=image/jpeg:https://themarvictavern.com/wp-content/uploads/2021/06/Marvic-Slider-Food-2.jpg
END:VEVENT
BEGIN:VEVENT
DTSTART;TZID=America/New_York:20210930T170000
DTEND;TZID=America/New_York:20210930T210000
DTSTAMP:20260420T012232
CREATED:20210825T133637Z
LAST-MODIFIED:20211005T135019Z
UID:2849-1633021200-1633035600@themarvictavern.com
SUMMARY:Thursday Wing Night
DESCRIPTION:Come on out for Jumbo Wings\, Deep Fried Things\, and Cold Beer!  \nFrom 5:00 pm – 9:00 pm join us for our Famous Jumbo Chicken Wings!  \nYou get 10 wings with your choice of 8 delicious sauces or 9 tasty dry spice flavors.  \nWe also have chicken tenders serves with the same dry rubs or sauces. See our menu for a complete list of sides and appetizers. \nWe now have pizza logs\, made in-house!  \nOf course\, take-out is always available. Please call ahead for take-out orders at 814-677-9981.
URL:https://themarvictavern.com/event/thursday-wing-night-10/
LOCATION:The Marvic Tavern\, 401 E. 2nd Street\, Oil City\, 16301\, United States
CATEGORIES:Wing Night
ATTACH;FMTTYPE=image/jpeg:https://themarvictavern.com/wp-content/uploads/2021/06/Food-Image-1.jpg
END:VEVENT
BEGIN:VEVENT
DTSTART;TZID=America/New_York:20210925T200000
DTEND;TZID=America/New_York:20210925T230000
DTSTAMP:20260420T012232
CREATED:20210825T134327Z
LAST-MODIFIED:20210825T134327Z
UID:2859-1632600000-1632610800@themarvictavern.com
SUMMARY:Saturday Night Karaoke
DESCRIPTION:Karaoke is back at The Marvic Tavern! \nKitchen is open from 3:00 pm to 9:00 pm.  \nCome on in and get your sing on from 8:00 pm to 11:00 pm!!!
URL:https://themarvictavern.com/event/saturday-night-karaoke-11/
LOCATION:The Marvic Tavern\, 401 E. 2nd Street\, Oil City\, 16301\, United States
CATEGORIES:Karaoke
ATTACH;FMTTYPE=image/jpeg:https://themarvictavern.com/wp-content/uploads/2021/06/Karaoke-Saturdays.jpg
END:VEVENT
BEGIN:VEVENT
DTSTART;TZID=America/New_York:20210924T170000
DTEND;TZID=America/New_York:20210924T210000
DTSTAMP:20260420T012232
CREATED:20210825T133056Z
LAST-MODIFIED:20210825T133056Z
UID:2839-1632502800-1632517200@themarvictavern.com
SUMMARY:Friday Night Fish Fry!
DESCRIPTION:Friday Night Fish Fry!!!\n\nCome on out and enjoy our deck in the beautiful summer weather!\n\nWe will have fried and baked fish dinners\, and fish sandwich dinners that will include delicious Haddock fillets\, choice of fries or baked potato\, slaw or apple sauce\, and hush puppies.\n\nDinners are $10.95 each and sandwich platters are $8.95.\n\nYou can also order just a fish sandwich for only $5.50.\n\nCome on in on Friday and help us bring back a great tradition to The Marvic Tavern!\n\nThe Marvic crew looks forward to seeing you!\n\nOf course\, take out is always available. Please call ahead for take out orders 814-677-9981.
URL:https://themarvictavern.com/event/friday-night-fish-fry-12/
LOCATION:The Marvic Tavern\, 401 E. 2nd Street\, Oil City\, 16301\, United States
CATEGORIES:Fish Fridays
ATTACH;FMTTYPE=image/jpeg:https://themarvictavern.com/wp-content/uploads/2021/06/Marvic-Slider-Food-2.jpg
END:VEVENT
BEGIN:VEVENT
DTSTART;TZID=America/New_York:20210923T170000
DTEND;TZID=America/New_York:20210923T210000
DTSTAMP:20260420T012232
CREATED:20210825T133549Z
LAST-MODIFIED:20211005T135525Z
UID:2847-1632416400-1632430800@themarvictavern.com
SUMMARY:Thursday Wing Night
DESCRIPTION:Come on out for Jumbo Wings\, Deep Fried Things\, and Cold Beer!  \nFrom 5:00 pm – 9:00 pm join us for our Famous Jumbo Chicken Wings!  \nYou get 10 wings with your choice of 8 delicious sauces or 9 tasty dry spice flavors.  \nWe also have chicken tenders serves with the same dry rubs or sauces. See our menu for a complete list of sides and appetizers. \nWe now have pizza logs\, made in-house!  \nOf course\, take-out is always available. Please call ahead for take-out orders at 814-677-9981.
URL:https://themarvictavern.com/event/thursday-wing-night-9/
LOCATION:The Marvic Tavern\, 401 E. 2nd Street\, Oil City\, 16301\, United States
CATEGORIES:Wing Night
ATTACH;FMTTYPE=image/jpeg:https://themarvictavern.com/wp-content/uploads/2021/06/Food-Image-1.jpg
END:VEVENT
BEGIN:VEVENT
DTSTART;TZID=America/New_York:20210919T160000
DTEND;TZID=America/New_York:20210919T200000
DTSTAMP:20260420T012233
CREATED:20210917T172311Z
LAST-MODIFIED:20210917T172550Z
UID:2879-1632067200-1632081600@themarvictavern.com
SUMMARY:War Dogs Bike Night featuring The Rumble Seat Winos
DESCRIPTION:SUNDAY\, September 19th – War Dogs Bike Night at the Marvic Tavern featuring “The Rumble Seat Winos”: 4pm – 8pm.
URL:https://themarvictavern.com/event/war-dogs-bike-night-featuring-rumble-seat-winos/
LOCATION:The Marvic Tavern\, 401 E. 2nd Street\, Oil City\, 16301\, United States
CATEGORIES:Bike Night
ATTACH;FMTTYPE=image/jpeg:https://themarvictavern.com/wp-content/uploads/2021/09/Marvic-War-Dogs-2021-01.jpg
END:VEVENT
BEGIN:VEVENT
DTSTART;TZID=America/New_York:20210918T200000
DTEND;TZID=America/New_York:20210918T230000
DTSTAMP:20260420T012233
CREATED:20210825T134226Z
LAST-MODIFIED:20210825T134407Z
UID:2857-1631995200-1632006000@themarvictavern.com
SUMMARY:Saturday Night Karaoke
DESCRIPTION:Karaoke is back at The Marvic Tavern! \nKitchen is open from 3:00 pm to 9:00 pm.  \nCome on in and get your sing on from 8:00 pm to 11:00 pm!!! \n 
URL:https://themarvictavern.com/event/saturday-night-karaoke-10/
LOCATION:The Marvic Tavern\, 401 E. 2nd Street\, Oil City\, 16301\, United States
CATEGORIES:Karaoke
ATTACH;FMTTYPE=image/jpeg:https://themarvictavern.com/wp-content/uploads/2021/06/Karaoke-Saturdays.jpg
END:VEVENT
END:VCALENDAR