BEGIN:VCALENDAR
VERSION:2.0
PRODID:-//The Marvic Tavern - ECPv6.10.1.1//NONSGML v1.0//EN
CALSCALE:GREGORIAN
METHOD:PUBLISH
X-WR-CALNAME:The Marvic Tavern
X-ORIGINAL-URL:https://themarvictavern.com
X-WR-CALDESC:Events for The Marvic Tavern
REFRESH-INTERVAL;VALUE=DURATION:PT1H
X-Robots-Tag:noindex
X-PUBLISHED-TTL:PT1H
BEGIN:VTIMEZONE
TZID:America/New_York
BEGIN:DAYLIGHT
TZOFFSETFROM:-0500
TZOFFSETTO:-0400
TZNAME:EDT
DTSTART:20210314T070000
END:DAYLIGHT
BEGIN:STANDARD
TZOFFSETFROM:-0400
TZOFFSETTO:-0500
TZNAME:EST
DTSTART:20211107T060000
END:STANDARD
END:VTIMEZONE
BEGIN:VEVENT
DTSTART;TZID=America/New_York:20210930T170000
DTEND;TZID=America/New_York:20210930T210000
DTSTAMP:20260420T064137
CREATED:20210825T133637Z
LAST-MODIFIED:20211005T135019Z
UID:2849-1633021200-1633035600@themarvictavern.com
SUMMARY:Thursday Wing Night
DESCRIPTION:Come on out for Jumbo Wings\, Deep Fried Things\, and Cold Beer!  \nFrom 5:00 pm – 9:00 pm join us for our Famous Jumbo Chicken Wings!  \nYou get 10 wings with your choice of 8 delicious sauces or 9 tasty dry spice flavors.  \nWe also have chicken tenders serves with the same dry rubs or sauces. See our menu for a complete list of sides and appetizers. \nWe now have pizza logs\, made in-house!  \nOf course\, take-out is always available. Please call ahead for take-out orders at 814-677-9981.
URL:https://themarvictavern.com/event/thursday-wing-night-10/
LOCATION:The Marvic Tavern\, 401 E. 2nd Street\, Oil City\, 16301\, United States
CATEGORIES:Wing Night
ATTACH;FMTTYPE=image/jpeg:https://themarvictavern.com/wp-content/uploads/2021/06/Food-Image-1.jpg
END:VEVENT
BEGIN:VEVENT
DTSTART;TZID=America/New_York:20210925T200000
DTEND;TZID=America/New_York:20210925T230000
DTSTAMP:20260420T064137
CREATED:20210825T134327Z
LAST-MODIFIED:20210825T134327Z
UID:2859-1632600000-1632610800@themarvictavern.com
SUMMARY:Saturday Night Karaoke
DESCRIPTION:Karaoke is back at The Marvic Tavern! \nKitchen is open from 3:00 pm to 9:00 pm.  \nCome on in and get your sing on from 8:00 pm to 11:00 pm!!!
URL:https://themarvictavern.com/event/saturday-night-karaoke-11/
LOCATION:The Marvic Tavern\, 401 E. 2nd Street\, Oil City\, 16301\, United States
CATEGORIES:Karaoke
ATTACH;FMTTYPE=image/jpeg:https://themarvictavern.com/wp-content/uploads/2021/06/Karaoke-Saturdays.jpg
END:VEVENT
BEGIN:VEVENT
DTSTART;TZID=America/New_York:20210924T170000
DTEND;TZID=America/New_York:20210924T210000
DTSTAMP:20260420T064137
CREATED:20210825T133056Z
LAST-MODIFIED:20210825T133056Z
UID:2839-1632502800-1632517200@themarvictavern.com
SUMMARY:Friday Night Fish Fry!
DESCRIPTION:Friday Night Fish Fry!!!\n\nCome on out and enjoy our deck in the beautiful summer weather!\n\nWe will have fried and baked fish dinners\, and fish sandwich dinners that will include delicious Haddock fillets\, choice of fries or baked potato\, slaw or apple sauce\, and hush puppies.\n\nDinners are $10.95 each and sandwich platters are $8.95.\n\nYou can also order just a fish sandwich for only $5.50.\n\nCome on in on Friday and help us bring back a great tradition to The Marvic Tavern!\n\nThe Marvic crew looks forward to seeing you!\n\nOf course\, take out is always available. Please call ahead for take out orders 814-677-9981.
URL:https://themarvictavern.com/event/friday-night-fish-fry-12/
LOCATION:The Marvic Tavern\, 401 E. 2nd Street\, Oil City\, 16301\, United States
CATEGORIES:Fish Fridays
ATTACH;FMTTYPE=image/jpeg:https://themarvictavern.com/wp-content/uploads/2021/06/Marvic-Slider-Food-2.jpg
END:VEVENT
BEGIN:VEVENT
DTSTART;TZID=America/New_York:20210923T170000
DTEND;TZID=America/New_York:20210923T210000
DTSTAMP:20260420T064137
CREATED:20210825T133549Z
LAST-MODIFIED:20211005T135525Z
UID:2847-1632416400-1632430800@themarvictavern.com
SUMMARY:Thursday Wing Night
DESCRIPTION:Come on out for Jumbo Wings\, Deep Fried Things\, and Cold Beer!  \nFrom 5:00 pm – 9:00 pm join us for our Famous Jumbo Chicken Wings!  \nYou get 10 wings with your choice of 8 delicious sauces or 9 tasty dry spice flavors.  \nWe also have chicken tenders serves with the same dry rubs or sauces. See our menu for a complete list of sides and appetizers. \nWe now have pizza logs\, made in-house!  \nOf course\, take-out is always available. Please call ahead for take-out orders at 814-677-9981.
URL:https://themarvictavern.com/event/thursday-wing-night-9/
LOCATION:The Marvic Tavern\, 401 E. 2nd Street\, Oil City\, 16301\, United States
CATEGORIES:Wing Night
ATTACH;FMTTYPE=image/jpeg:https://themarvictavern.com/wp-content/uploads/2021/06/Food-Image-1.jpg
END:VEVENT
BEGIN:VEVENT
DTSTART;TZID=America/New_York:20210919T160000
DTEND;TZID=America/New_York:20210919T200000
DTSTAMP:20260420T064137
CREATED:20210917T172311Z
LAST-MODIFIED:20210917T172550Z
UID:2879-1632067200-1632081600@themarvictavern.com
SUMMARY:War Dogs Bike Night featuring The Rumble Seat Winos
DESCRIPTION:SUNDAY\, September 19th – War Dogs Bike Night at the Marvic Tavern featuring “The Rumble Seat Winos”: 4pm – 8pm.
URL:https://themarvictavern.com/event/war-dogs-bike-night-featuring-rumble-seat-winos/
LOCATION:The Marvic Tavern\, 401 E. 2nd Street\, Oil City\, 16301\, United States
CATEGORIES:Bike Night
ATTACH;FMTTYPE=image/jpeg:https://themarvictavern.com/wp-content/uploads/2021/09/Marvic-War-Dogs-2021-01.jpg
END:VEVENT
BEGIN:VEVENT
DTSTART;TZID=America/New_York:20210918T200000
DTEND;TZID=America/New_York:20210918T230000
DTSTAMP:20260420T064137
CREATED:20210825T134226Z
LAST-MODIFIED:20210825T134407Z
UID:2857-1631995200-1632006000@themarvictavern.com
SUMMARY:Saturday Night Karaoke
DESCRIPTION:Karaoke is back at The Marvic Tavern! \nKitchen is open from 3:00 pm to 9:00 pm.  \nCome on in and get your sing on from 8:00 pm to 11:00 pm!!! \n 
URL:https://themarvictavern.com/event/saturday-night-karaoke-10/
LOCATION:The Marvic Tavern\, 401 E. 2nd Street\, Oil City\, 16301\, United States
CATEGORIES:Karaoke
ATTACH;FMTTYPE=image/jpeg:https://themarvictavern.com/wp-content/uploads/2021/06/Karaoke-Saturdays.jpg
END:VEVENT
BEGIN:VEVENT
DTSTART;TZID=America/New_York:20210917T170000
DTEND;TZID=America/New_York:20210917T210000
DTSTAMP:20260420T064137
CREATED:20210825T133004Z
LAST-MODIFIED:20210825T133004Z
UID:2837-1631898000-1631912400@themarvictavern.com
SUMMARY:Friday Night Fish Fry!
DESCRIPTION:Friday Night Fish Fry!!!\n\nCome on out and enjoy our deck in the beautiful summer weather!\n\nWe will have fried and baked fish dinners\, and fish sandwich dinners that will include delicious Haddock fillets\, choice of fries or baked potato\, slaw or apple sauce\, and hush puppies.\n\nDinners are $10.95 each and sandwich platters are $8.95.\n\nYou can also order just a fish sandwich for only $5.50.\n\nCome on in on Friday and help us bring back a great tradition to The Marvic Tavern!\n\nThe Marvic crew looks forward to seeing you!\n\nOf course\, take out is always available. Please call ahead for take out orders 814-677-9981.
URL:https://themarvictavern.com/event/friday-night-fish-fry-11/
LOCATION:The Marvic Tavern\, 401 E. 2nd Street\, Oil City\, 16301\, United States
CATEGORIES:Fish Fridays
ATTACH;FMTTYPE=image/jpeg:https://themarvictavern.com/wp-content/uploads/2021/06/Marvic-Slider-Food-2.jpg
END:VEVENT
BEGIN:VEVENT
DTSTART;TZID=America/New_York:20210916T170000
DTEND;TZID=America/New_York:20210916T210000
DTSTAMP:20260420T064137
CREATED:20210825T133503Z
LAST-MODIFIED:20211005T135541Z
UID:2845-1631811600-1631826000@themarvictavern.com
SUMMARY:Thursday Wing Night
DESCRIPTION:Come on out for Jumbo Wings\, Deep Fried Things\, and Cold Beer!  \nFrom 5:00 pm – 9:00 pm join us for our Famous Jumbo Chicken Wings!  \nYou get 10 wings with your choice of 8 delicious sauces or 9 tasty dry spice flavors.  \nWe also have chicken tenders serves with the same dry rubs or sauces. See our menu for a complete list of sides and appetizers. \nWe now have pizza logs\, made in-house!  \nOf course\, take-out is always available. Please call ahead for take-out orders at 814-677-9981.
URL:https://themarvictavern.com/event/thursday-wing-night-8/
LOCATION:The Marvic Tavern\, 401 E. 2nd Street\, Oil City\, 16301\, United States
CATEGORIES:Wing Night
ATTACH;FMTTYPE=image/jpeg:https://themarvictavern.com/wp-content/uploads/2021/06/Food-Image-1.jpg
END:VEVENT
BEGIN:VEVENT
DTSTART;TZID=America/New_York:20210911T200000
DTEND;TZID=America/New_York:20210911T230000
DTSTAMP:20260420T064137
CREATED:20210825T134134Z
LAST-MODIFIED:20210825T134420Z
UID:2855-1631390400-1631401200@themarvictavern.com
SUMMARY:Saturday Night Karaoke
DESCRIPTION:Karaoke is back at The Marvic Tavern! \nKitchen is open from 3:00 pm to 9:00 pm.  \nCome on in and get your sing on from 8:00 pm to 11:00 pm!!!
URL:https://themarvictavern.com/event/saturday-night-karaoke-9/
LOCATION:The Marvic Tavern\, 401 E. 2nd Street\, Oil City\, 16301\, United States
CATEGORIES:Karaoke
ATTACH;FMTTYPE=image/jpeg:https://themarvictavern.com/wp-content/uploads/2021/06/Karaoke-Saturdays.jpg
END:VEVENT
BEGIN:VEVENT
DTSTART;TZID=America/New_York:20210910T170000
DTEND;TZID=America/New_York:20210910T210000
DTSTAMP:20260420T064137
CREATED:20210825T132819Z
LAST-MODIFIED:20210825T132819Z
UID:2835-1631293200-1631307600@themarvictavern.com
SUMMARY:Friday Night Fish Fry!
DESCRIPTION:Friday Night Fish Fry!!!\n\nCome on out and enjoy our deck in the beautiful summer weather!\n\nWe will have fried and baked fish dinners\, and fish sandwich dinners that will include delicious Haddock fillets\, choice of fries or baked potato\, slaw or apple sauce\, and hush puppies.\n\nDinners are $10.95 each and sandwich platters are $8.95.\n\nYou can also order just a fish sandwich for only $5.50.\n\nCome on in on Friday and help us bring back a great tradition to The Marvic Tavern!\n\nThe Marvic crew looks forward to seeing you!\n\nOf course\, take out is always available. Please call ahead for take out orders 814-677-9981.
URL:https://themarvictavern.com/event/friday-night-fish-fry-10/
LOCATION:The Marvic Tavern\, 401 E. 2nd Street\, Oil City\, 16301\, United States
CATEGORIES:Fish Fridays
ATTACH;FMTTYPE=image/jpeg:https://themarvictavern.com/wp-content/uploads/2021/06/Marvic-Slider-Food-2.jpg
END:VEVENT
BEGIN:VEVENT
DTSTART;TZID=America/New_York:20210909T170000
DTEND;TZID=America/New_York:20210909T210000
DTSTAMP:20260420T064137
CREATED:20210825T133418Z
LAST-MODIFIED:20211005T135529Z
UID:2843-1631206800-1631221200@themarvictavern.com
SUMMARY:Thursday Wing Night
DESCRIPTION:Come on out for Jumbo Wings\, Deep Fried Things\, and Cold Beer!  \nFrom 5:00 pm – 9:00 pm join us for our Famous Jumbo Chicken Wings!  \nYou get 10 wings with your choice of 8 delicious sauces or 9 tasty dry spice flavors.  \nWe also have chicken tenders serves with the same dry rubs or sauces. See our menu for a complete list of sides and appetizers. \nWe now have pizza logs\, made in-house!  \nOf course\, take-out is always available. Please call ahead for take-out orders at 814-677-9981.
URL:https://themarvictavern.com/event/thursday-wing-night-7/
LOCATION:The Marvic Tavern\, 401 E. 2nd Street\, Oil City\, 16301\, United States
CATEGORIES:Wing Night
ATTACH;FMTTYPE=image/jpeg:https://themarvictavern.com/wp-content/uploads/2021/06/Food-Image-1.jpg
END:VEVENT
BEGIN:VEVENT
DTSTART;TZID=America/New_York:20210904T200000
DTEND;TZID=America/New_York:20210904T230000
DTSTAMP:20260420T064137
CREATED:20210825T134049Z
LAST-MODIFIED:20210825T134435Z
UID:2853-1630785600-1630796400@themarvictavern.com
SUMMARY:Saturday Night Karaoke
DESCRIPTION:Karaoke is back at The Marvic Tavern! \nKitchen is open from 3:00 pm to 9:00 pm.  \nCome on in and get your sing on from 8:00 pm to 11:00 pm!!!
URL:https://themarvictavern.com/event/saturday-night-karaoke-8/
LOCATION:The Marvic Tavern\, 401 E. 2nd Street\, Oil City\, 16301\, United States
CATEGORIES:Karaoke
ATTACH;FMTTYPE=image/jpeg:https://themarvictavern.com/wp-content/uploads/2021/06/Karaoke-Saturdays.jpg
END:VEVENT
BEGIN:VEVENT
DTSTART;TZID=America/New_York:20210904T170000
DTEND;TZID=America/New_York:20210904T210000
DTSTAMP:20260420T064137
CREATED:20210825T010557Z
LAST-MODIFIED:20210825T012233Z
UID:2828-1630774800-1630789200@themarvictavern.com
SUMMARY:Friday Night Fish Fry!
DESCRIPTION:Friday Night Fish Fry!!!\n\nCome on out and enjoy our deck in the beautiful summer weather!\n\nWe will have fried and baked fish dinners\, and fish sandwich dinners that will include delicious Haddock fillets\, choice of fries or baked potato\, slaw or apple sauce\, and hush puppies.\n\nDinners are $10.95 each and sandwich platters are $8.95.\n\nYou can also order just a fish sandwich for only $5.50.\n\nCome on in on Friday and help us bring back a great tradition to The Marvic Tavern!\n\nThe Marvic crew looks forward to seeing you!\n\nOf course\, take out is always available. Please call ahead for take out orders 814-677-9981.
URL:https://themarvictavern.com/event/friday-night-fish-fry-9/
LOCATION:The Marvic Tavern\, 401 E. 2nd Street\, Oil City\, 16301\, United States
CATEGORIES:Fish Fridays
ATTACH;FMTTYPE=image/jpeg:https://themarvictavern.com/wp-content/uploads/2021/06/Marvic-Slider-Food-2.jpg
END:VEVENT
BEGIN:VEVENT
DTSTART;TZID=America/New_York:20210902T170000
DTEND;TZID=America/New_York:20210902T210000
DTSTAMP:20260420T064137
CREATED:20210825T133332Z
LAST-MODIFIED:20211005T135543Z
UID:2841-1630602000-1630616400@themarvictavern.com
SUMMARY:Thursday Wing Night
DESCRIPTION:Come on out for Jumbo Wings\, Deep Fried Things\, and Cold Beer!  \nFrom 5:00 pm – 9:00 pm join us for our Famous Jumbo Chicken Wings!  \nYou get 10 wings with your choice of 8 delicious sauces or 9 tasty dry spice flavors.  \nWe also have chicken tenders serves with the same dry rubs or sauces. See our menu for a complete list of sides and appetizers. \nWe now have pizza logs\, made in-house!  \nOf course\, take-out is always available. Please call ahead for take-out orders at 814-677-9981.
URL:https://themarvictavern.com/event/thursday-wing-night-6/
LOCATION:The Marvic Tavern\, 401 E. 2nd Street\, Oil City\, 16301\, United States
CATEGORIES:Wing Night
ATTACH;FMTTYPE=image/jpeg:https://themarvictavern.com/wp-content/uploads/2021/06/Food-Image-1.jpg
END:VEVENT
BEGIN:VEVENT
DTSTART;TZID=America/New_York:20210901T170000
DTEND;TZID=America/New_York:20210901T200000
DTSTAMP:20260420T064137
CREATED:20210625T151924Z
LAST-MODIFIED:20210625T151924Z
UID:2786-1630515600-1630526400@themarvictavern.com
SUMMARY:RAACA Bike Night
DESCRIPTION:Sponsored by RAACA Cornhole \nGames \nMusic by Randy Moorehead \nPrizes: Loudest bike\, coolest looking bike\, best in show\, and more!
URL:https://themarvictavern.com/event/raaca-bike-night/
LOCATION:The Marvic Tavern\, 401 E. 2nd Street\, Oil City\, 16301\, United States
CATEGORIES:Bike Night
ATTACH;FMTTYPE=image/jpeg:https://themarvictavern.com/wp-content/uploads/2021/06/bike-night.jpg
END:VEVENT
BEGIN:VEVENT
DTSTART;TZID=America/New_York:20210829T160000
DTEND;TZID=America/New_York:20210829T180000
DTSTAMP:20260420T064137
CREATED:20210825T004300Z
LAST-MODIFIED:20210825T004531Z
UID:2815-1630252800-1630260000@themarvictavern.com
SUMMARY:Mitch Littler
DESCRIPTION:Come have dinner and drinks with us!
URL:https://themarvictavern.com/event/mitch-littler/
LOCATION:The Marvic Tavern\, 401 E. 2nd Street\, Oil City\, 16301\, United States
CATEGORIES:Event
ATTACH;FMTTYPE=image/jpeg:https://themarvictavern.com/wp-content/uploads/2021/08/Marvic-Mitch-Littler-2021-01.jpg
END:VEVENT
BEGIN:VEVENT
DTSTART;TZID=America/New_York:20210828T210000
DTEND;TZID=America/New_York:20210828T235500
DTSTAMP:20260420T064137
CREATED:20210825T004811Z
LAST-MODIFIED:20210825T004852Z
UID:2821-1630184400-1630194900@themarvictavern.com
SUMMARY:70's Night at the Marvic Tavern featuring "The Rumble Seat Winos"
DESCRIPTION:Saturday\, August 28th – 70’s Night at the Marvic Tavern\nfeaturing “The Rumble Seat Winos”\n9pm – Midnight\nCome join us for a wonderful selection of beer\, cocktails and food.
URL:https://themarvictavern.com/event/70s-night-at-the-marvic-tavern-featuring-the-rumble-seat-winos/
LOCATION:The Marvic Tavern\, 401 E. 2nd Street\, Oil City\, 16301\, United States
CATEGORIES:Event
ATTACH;FMTTYPE=image/jpeg:https://themarvictavern.com/wp-content/uploads/2021/08/Marvic-70s-Night-2021-01.jpg
END:VEVENT
BEGIN:VEVENT
DTSTART;TZID=America/New_York:20210827T170000
DTEND;TZID=America/New_York:20210827T210000
DTSTAMP:20260420T064137
CREATED:20210825T005158Z
LAST-MODIFIED:20210825T010403Z
UID:2824-1630083600-1630098000@themarvictavern.com
SUMMARY:Friday Night Fish Fry!
DESCRIPTION:Friday Night Fish Fry!!!\n\nCome on out and enjoy our deck in the beautiful summer weather!\n\nWe will have fried and baked fish dinners\, and fish sandwich dinners that will include delicious Haddock fillets\, choice of fries or baked potato\, slaw or apple sauce\, and hush puppies.\n\nDinners are $10.95 each and sandwich platters are $8.95.\n\nYou can also order just a fish sandwich for only $5.50.\n\nCome on in on Friday and help us bring back a great tradition to The Marvic Tavern!\n\nThe Marvic crew looks forward to seeing you!\n\nOf course\, take out is always available. Please call ahead for take out orders 814-677-9981.
URL:https://themarvictavern.com/event/friday-night-fish-fry-8/
LOCATION:The Marvic Tavern\, 401 E. 2nd Street\, Oil City\, 16301\, United States
CATEGORIES:Fish Fridays
ATTACH;FMTTYPE=image/jpeg:https://themarvictavern.com/wp-content/uploads/2021/06/Marvic-Slider-Food-2.jpg
END:VEVENT
BEGIN:VEVENT
DTSTART;TZID=America/New_York:20210826T170000
DTEND;TZID=America/New_York:20210826T210000
DTSTAMP:20260420T064137
CREATED:20210825T011133Z
LAST-MODIFIED:20210825T011317Z
UID:2830-1629997200-1630011600@themarvictavern.com
SUMMARY:Thursday Wing Night
DESCRIPTION:Come on out for Jumbo Wings\, Deep Fried Things\, and Cold Beer!  \nFrom 5:00 pm – 9:00 pm join us for our Famous Jumbo Chicken Wings!  \nYou get 10 wings with your choice of 8 delicious sauces or 9 tasty dry spice flavors.  \nWe also have chicken tenders serves with the same dry rubs or sauces. See our menu for a complete list of sides and appetizers. \nWe now have pizza logs\, made in-house!  \nOf course\, take-out is always available. Please call ahead for take-out orders at 814-677-9981.
URL:https://themarvictavern.com/event/thursday-wing-night-5/
LOCATION:The Marvic Tavern\, 401 E. 2nd Street\, Oil City\, 16301\, United States
CATEGORIES:Wing Night
ATTACH;FMTTYPE=image/jpeg:https://themarvictavern.com/wp-content/uploads/2021/06/Food-Image-1.jpg
END:VEVENT
BEGIN:VEVENT
DTSTART;TZID=America/New_York:20210821T160000
DTEND;TZID=America/New_York:20210821T220000
DTSTAMP:20260420T064137
CREATED:20210625T151403Z
LAST-MODIFIED:20210625T151403Z
UID:2783-1629561600-1629583200@themarvictavern.com
SUMMARY:Vending @ OC Bridge Fest
DESCRIPTION:Vending @ OC Bridge Fest
URL:https://themarvictavern.com/event/vending-oc-bridge-fest/
LOCATION:The Marvic Tavern\, 401 E. 2nd Street\, Oil City\, 16301\, United States
CATEGORIES:Event
ATTACH;FMTTYPE=image/jpeg:https://themarvictavern.com/wp-content/uploads/2021/06/Bridge-Fest.jpg
END:VEVENT
BEGIN:VEVENT
DTSTART;TZID=America/New_York:20210820T080000
DTEND;TZID=America/New_York:20210820T170000
DTSTAMP:20260420T064137
CREATED:20210825T140058Z
LAST-MODIFIED:20210825T140058Z
UID:2874-1629446400-1629478800@themarvictavern.com
SUMMARY:Friday Night Fish Fry!
DESCRIPTION:Friday Night Fish Fry!!!\n\nCome on out and enjoy our deck in the beautiful summer weather!\n\nWe will have fried and baked fish dinners\, and fish sandwich dinners that will include delicious Haddock fillets\, choice of fries or baked potato\, slaw or apple sauce\, and hush puppies.\n\nDinners are $10.95 each and sandwich platters are $8.95.\n\nYou can also order just a fish sandwich for only $5.50.\n\nCome on in on Friday and help us bring back a great tradition to The Marvic Tavern!\n\nThe Marvic crew looks forward to seeing you!\n\nOf course\, take out is always available. Please call ahead for take out orders 814-677-9981.
URL:https://themarvictavern.com/event/friday-night-fish-fry-18/
LOCATION:The Marvic Tavern\, 401 E. 2nd Street\, Oil City\, 16301\, United States
CATEGORIES:Fish Fridays
ATTACH;FMTTYPE=image/jpeg:https://themarvictavern.com/wp-content/uploads/2021/06/Marvic-Slider-Food-2.jpg
END:VEVENT
BEGIN:VEVENT
DTSTART;TZID=America/New_York:20210813T170000
DTEND;TZID=America/New_York:20210813T210000
DTSTAMP:20260420T064137
CREATED:20210825T140109Z
LAST-MODIFIED:20210825T140109Z
UID:2873-1628874000-1628888400@themarvictavern.com
SUMMARY:Friday Night Fish Fry!
DESCRIPTION:Friday Night Fish Fry!!!\n\nCome on out and enjoy our deck in the beautiful summer weather!\n\nWe will have fried and baked fish dinners\, and fish sandwich dinners that will include delicious Haddock fillets\, choice of fries or baked potato\, slaw or apple sauce\, and hush puppies.\n\nDinners are $10.95 each and sandwich platters are $8.95.\n\nYou can also order just a fish sandwich for only $5.50.\n\nCome on in on Friday and help us bring back a great tradition to The Marvic Tavern!\n\nThe Marvic crew looks forward to seeing you!\n\nOf course\, take out is always available. Please call ahead for take out orders 814-677-9981.
URL:https://themarvictavern.com/event/friday-night-fish-fry-19/
LOCATION:The Marvic Tavern\, 401 E. 2nd Street\, Oil City\, 16301\, United States
CATEGORIES:Fish Fridays
ATTACH;FMTTYPE=image/jpeg:https://themarvictavern.com/wp-content/uploads/2021/06/Marvic-Slider-Food-2.jpg
END:VEVENT
BEGIN:VEVENT
DTSTART;TZID=America/New_York:20210806T210000
DTEND;TZID=America/New_York:20210806T235900
DTSTAMP:20260420T064137
CREATED:20210625T150053Z
LAST-MODIFIED:20210625T150347Z
UID:2776-1628283600-1628294340@themarvictavern.com
SUMMARY:90's Night Featuring Randy Moorehead
DESCRIPTION:Join us for a fun-filled evening back to the 90’s with singer Randy Moorehead. \nSinging at the age of 24\, Randy Moorehead\, 35\, of Seneca\, grew up as a child playing the piano and drums. \nHe previously performed as the lead singer of the local group Constant Distraction. \nRandy was also the winner of Franklin’s 7th annual ‘Taste of Talent’ vocal competition in 2016.
URL:https://themarvictavern.com/event/90s-night-featuring-randy-moorehead/
LOCATION:The Marvic Tavern\, 401 E. 2nd Street\, Oil City\, 16301\, United States
CATEGORIES:Event
ATTACH;FMTTYPE=image/jpeg:https://themarvictavern.com/wp-content/uploads/2021/06/The-90s-Night.jpg
END:VEVENT
BEGIN:VEVENT
DTSTART;TZID=America/New_York:20210731T200000
DTEND;TZID=America/New_York:20210731T230000
DTSTAMP:20260420T064137
CREATED:20210619T071446Z
LAST-MODIFIED:20210619T071446Z
UID:2733-1627761600-1627772400@themarvictavern.com
SUMMARY:Saturday Night Karaoke
DESCRIPTION:Karaoke is back at The Marvic Tavern! \nKitchen is open from 3:00 pm to 9:00 pm.  \nCome on in and get your sing on from 8:00 pm to 11:00 pm!!!
URL:https://themarvictavern.com/event/saturday-night-karaoke-6/
LOCATION:The Marvic Tavern\, 401 E. 2nd Street\, Oil City\, 16301\, United States
CATEGORIES:Karaoke
ATTACH;FMTTYPE=image/jpeg:https://themarvictavern.com/wp-content/uploads/2021/06/Karaoke-Saturdays.jpg
END:VEVENT
BEGIN:VEVENT
DTSTART;TZID=America/New_York:20210730T160000
DTEND;TZID=America/New_York:20210730T210000
DTSTAMP:20260420T064137
CREATED:20210618T003001Z
LAST-MODIFIED:20210618T003001Z
UID:2648-1627660800-1627678800@themarvictavern.com
SUMMARY:Friday Night Fish Fry!
DESCRIPTION:Friday Night Fish Fry!!!\n\nCome on out and enjoy our deck in the beautiful summer weather!\n\nWe will have fried and baked fish dinners\, and fish sandwich dinners that will include delicious Haddock fillets\, choice of fries or baked potato\, slaw or apple sauce\, and hush puppies.\n\nDinners are $10.95 each and sandwich platters are $8.95.\n\nYou can also order just a fish sandwich for only $5.50.\n\nCome on in on Friday and help us bring back a great tradition to The Marvic Tavern!\n\nThe Marvic crew looks forward to seeing you!\n\nOf course\, take out is always available. Please call ahead for take out orders 814-677-9981.
URL:https://themarvictavern.com/event/friday-night-fish-fry-7/
LOCATION:The Marvic Tavern\, 401 E. 2nd Street\, Oil City\, 16301\, United States
CATEGORIES:Fish Fridays
ATTACH;FMTTYPE=image/jpeg:https://themarvictavern.com/wp-content/uploads/2021/06/Fish-Dinner-1.jpg
END:VEVENT
BEGIN:VEVENT
DTSTART;TZID=America/New_York:20210729T170000
DTEND;TZID=America/New_York:20210729T210000
DTSTAMP:20260420T064137
CREATED:20210619T070903Z
LAST-MODIFIED:20210619T070903Z
UID:2723-1627578000-1627592400@themarvictavern.com
SUMMARY:Thursday Wing Night
DESCRIPTION:Come on out for Jumbo Wings\, Deep Fried Things\, and Cold Beer!  \nFrom 5:00 pm – 9:00 pm join us for our Famous Jumbo Chicken Wings!  \nYou get 10 wings with your choice of 8 delicious sauces or 9 tasty dry spice flavors.  \nWe also have chicken tenders serves with the same dry rubs or sauces. See our menu for a complete list of sides and appetizers. \nWe now have pizza logs\, made in-house!  \nOf course\, take-out is always available. Please call ahead for take-out orders at 814-677-9981.
URL:https://themarvictavern.com/event/thursday-wing-night-4/
LOCATION:The Marvic Tavern\, 401 E. 2nd Street\, Oil City\, 16301\, United States
CATEGORIES:Wing Night
ATTACH;FMTTYPE=image/jpeg:https://themarvictavern.com/wp-content/uploads/2021/06/Food-Image-1.jpg
END:VEVENT
BEGIN:VEVENT
DTSTART;TZID=America/New_York:20210724T200000
DTEND;TZID=America/New_York:20210724T230000
DTSTAMP:20260420T064137
CREATED:20210619T071348Z
LAST-MODIFIED:20210619T071348Z
UID:2731-1627156800-1627167600@themarvictavern.com
SUMMARY:Saturday Night Karaoke
DESCRIPTION:Karaoke is back at The Marvic Tavern! \nKitchen is open from 3:00 pm to 9:00 pm.  \nCome on in and get your sing on from 8:00 pm to 11:00 pm!!!
URL:https://themarvictavern.com/event/saturday-night-karaoke-5/
LOCATION:The Marvic Tavern\, 401 E. 2nd Street\, Oil City\, 16301\, United States
CATEGORIES:Karaoke
ATTACH;FMTTYPE=image/jpeg:https://themarvictavern.com/wp-content/uploads/2021/06/Karaoke-Saturdays.jpg
END:VEVENT
BEGIN:VEVENT
DTSTART;TZID=America/New_York:20210724T160000
DTEND;TZID=America/New_York:20210724T190000
DTSTAMP:20260420T064137
CREATED:20210625T144507Z
LAST-MODIFIED:20210625T145302Z
UID:2773-1627142400-1627153200@themarvictavern.com
SUMMARY:Craig Phillips Memorial
DESCRIPTION:Craig Phillips Memorial featuring Live Classic Rock Band “Rumble Seat Winos” \n4:00 pm – 7:00 pm
URL:https://themarvictavern.com/event/craig-phillips-memorial/
LOCATION:The Marvic Tavern\, 401 E. 2nd Street\, Oil City\, 16301\, United States
CATEGORIES:Event
ATTACH;FMTTYPE=image/jpeg:https://themarvictavern.com/wp-content/uploads/2021/06/Craig-Phillips.jpg
END:VEVENT
BEGIN:VEVENT
DTSTART;TZID=America/New_York:20210723T160000
DTEND;TZID=America/New_York:20210723T210000
DTSTAMP:20260420T064137
CREATED:20210618T002843Z
LAST-MODIFIED:20210618T002843Z
UID:2646-1627056000-1627074000@themarvictavern.com
SUMMARY:Friday Night Fish Fry!
DESCRIPTION:Friday Night Fish Fry!!!\n\nCome on out and enjoy our deck in the beautiful summer weather!\n\nWe will have fried and baked fish dinners\, and fish sandwich dinners that will include delicious Haddock fillets\, choice of fries or baked potato\, slaw or apple sauce\, and hush puppies.\n\nDinners are $10.95 each and sandwich platters are $8.95.\n\nYou can also order just a fish sandwich for only $5.50.\n\nCome on in on Friday and help us bring back a great tradition to The Marvic Tavern!\n\nThe Marvic crew looks forward to seeing you!\n\nOf course\, take out is always available. Please call ahead for take out orders 814-677-9981.
URL:https://themarvictavern.com/event/friday-night-fish-fry-6/
LOCATION:The Marvic Tavern\, 401 E. 2nd Street\, Oil City\, 16301\, United States
CATEGORIES:Fish Fridays
ATTACH;FMTTYPE=image/jpeg:https://themarvictavern.com/wp-content/uploads/2021/06/Fish-Dinner-1.jpg
END:VEVENT
BEGIN:VEVENT
DTSTART;TZID=America/New_York:20210722T170000
DTEND;TZID=America/New_York:20210722T210000
DTSTAMP:20260420T064137
CREATED:20210619T070659Z
LAST-MODIFIED:20210619T070808Z
UID:2720-1626973200-1626987600@themarvictavern.com
SUMMARY:Thursday Wing Night
DESCRIPTION:Come on out for Jumbo Wings\, Deep Fried Things\, and Cold Beer!  \nFrom 5:00 pm – 9:00 pm join us for our Famous Jumbo Chicken Wings!  \nYou get 10 wings with your choice of 8 delicious sauces or 9 tasty dry spice flavors.  \nWe also have chicken tenders serves with the same dry rubs or sauces. See our menu for a complete list of sides and appetizers. \nWe now have pizza logs\, made in-house!  \nOf course\, take-out is always available. Please call ahead for take-out orders at 814-677-9981. \n 
URL:https://themarvictavern.com/event/marvics-own-special-sauce/
LOCATION:The Marvic Tavern\, 401 E. 2nd Street\, Oil City\, 16301\, United States
CATEGORIES:Wing Night
ATTACH;FMTTYPE=image/jpeg:https://themarvictavern.com/wp-content/uploads/2021/06/Food-Image-1.jpg
END:VEVENT
END:VCALENDAR