BEGIN:VCALENDAR
VERSION:2.0
PRODID:-//The Marvic Tavern - ECPv6.10.1.1//NONSGML v1.0//EN
CALSCALE:GREGORIAN
METHOD:PUBLISH
X-WR-CALNAME:The Marvic Tavern
X-ORIGINAL-URL:https://themarvictavern.com
X-WR-CALDESC:Events for The Marvic Tavern
REFRESH-INTERVAL;VALUE=DURATION:PT1H
X-Robots-Tag:noindex
X-PUBLISHED-TTL:PT1H
BEGIN:VTIMEZONE
TZID:America/New_York
BEGIN:DAYLIGHT
TZOFFSETFROM:-0500
TZOFFSETTO:-0400
TZNAME:EDT
DTSTART:20250309T070000
END:DAYLIGHT
BEGIN:STANDARD
TZOFFSETFROM:-0400
TZOFFSETTO:-0500
TZNAME:EST
DTSTART:20251102T060000
END:STANDARD
END:VTIMEZONE
BEGIN:VEVENT
DTSTART;TZID=America/New_York:20251011T160000
DTEND;TZID=America/New_York:20251011T200000
DTSTAMP:20260419T160717
CREATED:20251009T171539Z
LAST-MODIFIED:20251009T171539Z
UID:3578-1760198400-1760212800@themarvictavern.com
SUMMARY:Wings & Wheels Bike Nights
DESCRIPTION:The last bike night of 2025! \n$1 wings and burger specials. \n*Minimum of 10 wings. \nTake a break from the road with a cold drink and enjoy our outdoor deck\, cornhole\, pool\, and darts. \nNot affiliated with any bike club. \nAll are welcome!
URL:https://themarvictavern.com/event/wings-wheels-bike-nights/
LOCATION:The Marvic Tavern\, 401 E. 2nd Street\, Oil City\, 16301\, United States
CATEGORIES:Bike Night,Event
ATTACH;FMTTYPE=image/jpeg:https://themarvictavern.com/wp-content/uploads/2025/10/marvic-wings-scaled.jpg
END:VEVENT
BEGIN:VEVENT
DTSTART;TZID=America/New_York:20251025T200000
DTEND;TZID=America/New_York:20251026T010000
DTSTAMP:20260419T160717
CREATED:20251009T174341Z
LAST-MODIFIED:20251009T174341Z
UID:3581-1761422400-1761440400@themarvictavern.com
SUMMARY:Halloween Party
DESCRIPTION:Enjoy if you dare … \nLate night munchies\, dancing in the bar\, and spooky drink specials. \nPlus … \nScaryoke in the ER \nAnd our best costume contest! \nContest begins at 10:30 pm. \n$100 1st place \n$50 2nd place \n$25 3rd place
URL:https://themarvictavern.com/event/halloween-party/
LOCATION:The Marvic Tavern\, 401 E. 2nd Street\, Oil City\, 16301\, United States
CATEGORIES:Event,Halloween,Karaoke
ATTACH;FMTTYPE=image/jpeg:https://themarvictavern.com/wp-content/uploads/2025/10/marvic-halloween2-scaled.jpg
END:VEVENT
END:VCALENDAR