BEGIN:VCALENDAR
VERSION:2.0
PRODID:-//The Marvic Tavern - ECPv6.10.1.1//NONSGML v1.0//EN
CALSCALE:GREGORIAN
METHOD:PUBLISH
X-WR-CALNAME:The Marvic Tavern
X-ORIGINAL-URL:https://themarvictavern.com
X-WR-CALDESC:Events for The Marvic Tavern
REFRESH-INTERVAL;VALUE=DURATION:PT1H
X-Robots-Tag:noindex
X-PUBLISHED-TTL:PT1H
BEGIN:VTIMEZONE
TZID:America/New_York
BEGIN:DAYLIGHT
TZOFFSETFROM:-0500
TZOFFSETTO:-0400
TZNAME:EDT
DTSTART:20250309T070000
END:DAYLIGHT
BEGIN:STANDARD
TZOFFSETFROM:-0400
TZOFFSETTO:-0500
TZNAME:EST
DTSTART:20251102T060000
END:STANDARD
END:VTIMEZONE
BEGIN:VEVENT
DTSTART;TZID=America/New_York:20250913T160000
DTEND;TZID=America/New_York:20250913T200000
DTSTAMP:20260419T162353
CREATED:20250808T181602Z
LAST-MODIFIED:20250808T181602Z
UID:3571-1757779200-1757793600@themarvictavern.com
SUMMARY:Wings and Wheels Bike Night
DESCRIPTION:Wings and Wheels Bike Night- Come join the Marvic for our first Bike Night of the summer. \nKitchen will be open featuring  $1.00 each wings (minimum 10 wings) and burger specials. \nTake a break from the road with a cold drink\, and enjoy our outdoor deck\, cornhole\, pool\, and darts. \nSaturday\, September 13th –  4:00 pm-8:00 pm
URL:https://themarvictavern.com/event/wings-and-wheels-bike-night-2/
LOCATION:The Marvic Tavern\, 401 E. 2nd Street\, Oil City\, 16301\, United States
CATEGORIES:Bike Night
ATTACH;FMTTYPE=image/jpeg:https://themarvictavern.com/wp-content/uploads/2025/08/marvic-wings-2-header.jpg
END:VEVENT
BEGIN:VEVENT
DTSTART;TZID=America/New_York:20250921T140000
DTEND;TZID=America/New_York:20250921T170000
DTSTAMP:20260419T162353
CREATED:20250807T192807Z
LAST-MODIFIED:20250808T180131Z
UID:3552-1758463200-1758474000@themarvictavern.com
SUMMARY:The Rock and Blues Sounds of Outlaw
DESCRIPTION:The Rock and Blues Sounds of Outlaw playing your favorites! Free admission \nSunday\, September 21- 2:00pm-5:00pm \n 
URL:https://themarvictavern.com/event/the-rock-and-blues-sounds-of-outlaw/
LOCATION:The Marvic Tavern\, 401 E. 2nd Street\, Oil City\, 16301\, United States
CATEGORIES:Event
ATTACH;FMTTYPE=image/jpeg:https://themarvictavern.com/wp-content/uploads/2025/08/Outlaw.jpg
END:VEVENT
END:VCALENDAR